BEGIN:VCALENDAR
VERSION:2.0
PRODID:-//Joanna&#039;s Restaurant and Banquet Hall - A Complete Dining and Event Experience in Somers, CT - ECPv6.15.20//NONSGML v1.0//EN
CALSCALE:GREGORIAN
METHOD:PUBLISH
X-ORIGINAL-URL:https://joannasbanquets.com
X-WR-CALDESC:Events for Joanna&#039;s Restaurant and Banquet Hall - A Complete Dining and Event Experience in Somers, CT
REFRESH-INTERVAL;VALUE=DURATION:PT1H
X-Robots-Tag:noindex
X-PUBLISHED-TTL:PT1H
BEGIN:VTIMEZONE
TZID:America/New_York
BEGIN:DAYLIGHT
TZOFFSETFROM:-0500
TZOFFSETTO:-0400
TZNAME:EDT
DTSTART:20250309T070000
END:DAYLIGHT
BEGIN:STANDARD
TZOFFSETFROM:-0400
TZOFFSETTO:-0500
TZNAME:EST
DTSTART:20251102T060000
END:STANDARD
BEGIN:DAYLIGHT
TZOFFSETFROM:-0500
TZOFFSETTO:-0400
TZNAME:EDT
DTSTART:20260308T070000
END:DAYLIGHT
BEGIN:STANDARD
TZOFFSETFROM:-0400
TZOFFSETTO:-0500
TZNAME:EST
DTSTART:20261101T060000
END:STANDARD
BEGIN:DAYLIGHT
TZOFFSETFROM:-0500
TZOFFSETTO:-0400
TZNAME:EDT
DTSTART:20270314T070000
END:DAYLIGHT
BEGIN:STANDARD
TZOFFSETFROM:-0400
TZOFFSETTO:-0500
TZNAME:EST
DTSTART:20271107T060000
END:STANDARD
END:VTIMEZONE
BEGIN:VEVENT
DTSTART;TZID=America/New_York:20260528T180000
DTEND;TZID=America/New_York:20260528T210000
DTSTAMP:20260424T215512
CREATED:20250426T144405Z
LAST-MODIFIED:20260424T152827Z
UID:2037-1779991200-1780002000@joannasbanquets.com
SUMMARY:Thursday Night Bike Nights at Joanna's
DESCRIPTION:BIKE NIGHTS AT JOANNA’SBack for 2026! \nRev it up and ride over to Joanna’s Restaurant for one of the most anticipated summer traditions around—Bike Nights are back! Whether you’re a seasoned rider\, a weekend cruiser\, or just someone who loves the atmosphere\, our Bike Nights are the perfect place to kick back\, connect\, and enjoy great company. \nJoin us on the 4th Thursday of each month from May through August for an unforgettable evening filled with impressive bikes\, delicious food\, refreshing drinks\, and a lively outdoor setting. \n4th Thursday of Each Month:May 28 • June 25 • July 23 • August 27 \n⏰ 6:00-9:00Joanna’s Restaurant & Café \nProudly sponsored by Trantolo & Trantolo\, helping us bring the community together all summer long. \nEach event features a wide variety of motorcycles on display\, from classic builds to modern machines—all bikes are welcome. Guests can enjoy food and drink specials\, great music\, and a relaxed\, family-friendly atmosphere that makes Joanna’s the perfect place to spend a summer evening. \nWhether you’re showing off your ride or just stopping by for dinner and drinks\, there’s something for everyone. Bring your friends\, meet fellow riders\, and make it a night to remember. \n✔ All Bikes Welcome✔ Food & Drink Specials✔ Music & Outdoor Vibes \nBring your crew. Show off your ride. Enjoy the night. \nStay tuned for updates\, featured bikes\, and more upcoming events at Joanna’s Restaurant & Banquet Hall. \nUpcoming Events at Joanna’s Restaurant and Banquet Hall
URL:https://joannasbanquets.com/event/bike-nights-at-joannas/
LOCATION:Joanna’s Patio\, 145 Main St.\, Somers\, CT\, 06071\, United States
CATEGORIES:Bike Nights,Classic Rock,Live Music,Rock and Roll
ATTACH;FMTTYPE=image/jpeg:https://joannasbanquets.com/wp-content/uploads/2025/04/Bike-nights-26.jpg
END:VEVENT
END:VCALENDAR