BEGIN:VCALENDAR
VERSION:2.0
PRODID:-//Joanna&#039;s Restaurant and Banquet Hall - A Complete Dining and Event Experience in Somers, CT - ECPv6.15.20//NONSGML v1.0//EN
CALSCALE:GREGORIAN
METHOD:PUBLISH
X-WR-CALNAME:Joanna&#039;s Restaurant and Banquet Hall - A Complete Dining and Event Experience in Somers, CT
X-ORIGINAL-URL:https://joannasbanquets.com
X-WR-CALDESC:Events for Joanna&#039;s Restaurant and Banquet Hall - A Complete Dining and Event Experience in Somers, CT
REFRESH-INTERVAL;VALUE=DURATION:PT1H
X-Robots-Tag:noindex
X-PUBLISHED-TTL:PT1H
BEGIN:VTIMEZONE
TZID:America/New_York
BEGIN:DAYLIGHT
TZOFFSETFROM:-0500
TZOFFSETTO:-0400
TZNAME:EDT
DTSTART:20240310T070000
END:DAYLIGHT
BEGIN:STANDARD
TZOFFSETFROM:-0400
TZOFFSETTO:-0500
TZNAME:EST
DTSTART:20241103T060000
END:STANDARD
BEGIN:DAYLIGHT
TZOFFSETFROM:-0500
TZOFFSETTO:-0400
TZNAME:EDT
DTSTART:20250309T070000
END:DAYLIGHT
BEGIN:STANDARD
TZOFFSETFROM:-0400
TZOFFSETTO:-0500
TZNAME:EST
DTSTART:20251102T060000
END:STANDARD
BEGIN:DAYLIGHT
TZOFFSETFROM:-0500
TZOFFSETTO:-0400
TZNAME:EDT
DTSTART:20260308T070000
END:DAYLIGHT
BEGIN:STANDARD
TZOFFSETFROM:-0400
TZOFFSETTO:-0500
TZNAME:EST
DTSTART:20261101T060000
END:STANDARD
END:VTIMEZONE
BEGIN:VEVENT
DTSTART;TZID=America/New_York:20250511T160000
DTEND;TZID=America/New_York:20250511T190000
DTSTAMP:20260422T140804
CREATED:20241219T145158Z
LAST-MODIFIED:20250501T123929Z
UID:1824-1746979200-1746990000@joannasbanquets.com
SUMMARY:Mother’s Day Country with Cobblestone Road - Live in the Main Hall @ Joanna's
DESCRIPTION:Looking for the perfect Mother’s Day celebration? Bring your family to Joanna’s Restaurant on Sunday\, May 11 from 4:00 PM to 7:00 PM for a special evening with Cobblestone Road\, a fantastic country band known for heartfelt vocals and toe-tapping rhythms. \nEnjoy a delicious meal\, relax on our patio\, and let the sounds of country music create unforgettable memories for Mom. Seating is limited — call today to RSVP! \n📍 Joanna’s Restaurant📞 860-749-5060🌐 Join us for great food\, music\, and family fun! \n \nWe can’t wait to see you at Joanna’s Cafe in Somers\, CT!
URL:https://joannasbanquets.com/event/cobblestone-road-mothers-day/
LOCATION:Joanna’s Main Hall\, 145 Main St.\, Somers\, CT\, 06071\, United States
CATEGORIES:Country,country line dancing,Live Music,Party and Dancing
ATTACH;FMTTYPE=image/jpeg:https://joannasbanquets.com/wp-content/uploads/2024/12/ChatGPT-Image-May-1-2025-08_38_07-AM.jpg
ORGANIZER;CN="Joanna's Restaurant":MAILTO:info@joannas-banquets.com
END:VEVENT
END:VCALENDAR