BEGIN:VCALENDAR
VERSION:2.0
PRODID:-//Joanna&#039;s Restaurant and Banquet Hall - A Complete Dining and Event Experience in Somers, CT - ECPv6.15.20//NONSGML v1.0//EN
CALSCALE:GREGORIAN
METHOD:PUBLISH
X-ORIGINAL-URL:https://joannasbanquets.com
X-WR-CALDESC:Events for Joanna&#039;s Restaurant and Banquet Hall - A Complete Dining and Event Experience in Somers, CT
REFRESH-INTERVAL;VALUE=DURATION:PT1H
X-Robots-Tag:noindex
X-PUBLISHED-TTL:PT1H
BEGIN:VTIMEZONE
TZID:America/New_York
BEGIN:DAYLIGHT
TZOFFSETFROM:-0500
TZOFFSETTO:-0400
TZNAME:EDT
DTSTART:20240310T070000
END:DAYLIGHT
BEGIN:STANDARD
TZOFFSETFROM:-0400
TZOFFSETTO:-0500
TZNAME:EST
DTSTART:20241103T060000
END:STANDARD
BEGIN:DAYLIGHT
TZOFFSETFROM:-0500
TZOFFSETTO:-0400
TZNAME:EDT
DTSTART:20250309T070000
END:DAYLIGHT
BEGIN:STANDARD
TZOFFSETFROM:-0400
TZOFFSETTO:-0500
TZNAME:EST
DTSTART:20251102T060000
END:STANDARD
BEGIN:DAYLIGHT
TZOFFSETFROM:-0500
TZOFFSETTO:-0400
TZNAME:EDT
DTSTART:20260308T070000
END:DAYLIGHT
BEGIN:STANDARD
TZOFFSETFROM:-0400
TZOFFSETTO:-0500
TZNAME:EST
DTSTART:20261101T060000
END:STANDARD
END:VTIMEZONE
BEGIN:VEVENT
DTSTART;TZID=America/New_York:20250921T170000
DTEND;TZID=America/New_York:20250921T200000
DTSTAMP:20260422T095053
CREATED:20240625T140458Z
LAST-MODIFIED:20251015T120259Z
UID:1516-1758474000-1758484800@joannasbanquets.com
SUMMARY:Jim Blanch and Boot Hill - Country line every 3rd Sunday @ Joanna's
DESCRIPTION:Saddle Up for Jim Blanch and Boot Hill! Live at Joanna’s Restaurant and Banquet Hall \nJoin us for an evening of classic country music with a twist as Jim Blanch and Boothill take the stage at Joanna’s Restaurant and Banquet Hall! Don’t miss their live performance on September 21st from 5:00 PM to 8:00 PM. \n🎸 Jim Blanch and Boot Hill: Classic Country with a Twist! 🎶 \nExperience the best of country music as Jim Blanch and Boot Hill bring their unique sound to the stage. With a mix of timeless classics and modern country hits\, their energetic performance will have you tapping your feet and dancing the night away. \nEvent Details: \n\nDate: November 16th\nTime: 5:00 PM – 8:00 PM\nVenue: Joanna’s Restaurant and Banquet Hall\nAddress: 145 Main St.\, Somers\n\nAdmission is free for all country music fans. Gather your friends\, family\, and fellow country lovers for an unforgettable evening of music and good times! \nFor more information or reservations\, please contact us at 860-749-5060\, doors open at 5:30 for dinner reservations. \nDon’t miss your chance to enjoy Jim Blanch and Boot Hill live at Joanna’s Restaurant and Banquet Hall! Let’s make it a night to remember! 🤠🎵
URL:https://joannasbanquets.com/event/country-line-dancing/
LOCATION:Joanna’s Main Hall\, 145 Main St.\, Somers\, CT\, 06071\, United States
CATEGORIES:Classic Rock,Country,country line dancing,Live Music
ATTACH;FMTTYPE=image/jpeg:https://joannasbanquets.com/wp-content/uploads/2024/12/Jim-Blanch-and-Boothill.jpg
END:VEVENT
END:VCALENDAR