BEGIN:VCALENDAR
VERSION:2.0
PRODID:-//Joanna&#039;s Restaurant and Banquet Hall - A Complete Dining and Event Experience in Somers, CT - ECPv6.15.20//NONSGML v1.0//EN
CALSCALE:GREGORIAN
METHOD:PUBLISH
X-WR-CALNAME:Joanna&#039;s Restaurant and Banquet Hall - A Complete Dining and Event Experience in Somers, CT
X-ORIGINAL-URL:https://joannasbanquets.com
X-WR-CALDESC:Events for Joanna&#039;s Restaurant and Banquet Hall - A Complete Dining and Event Experience in Somers, CT
REFRESH-INTERVAL;VALUE=DURATION:PT1H
X-Robots-Tag:noindex
X-PUBLISHED-TTL:PT1H
BEGIN:VTIMEZONE
TZID:America/New_York
BEGIN:DAYLIGHT
TZOFFSETFROM:-0500
TZOFFSETTO:-0400
TZNAME:EDT
DTSTART:20250309T070000
END:DAYLIGHT
BEGIN:STANDARD
TZOFFSETFROM:-0400
TZOFFSETTO:-0500
TZNAME:EST
DTSTART:20251102T060000
END:STANDARD
BEGIN:DAYLIGHT
TZOFFSETFROM:-0500
TZOFFSETTO:-0400
TZNAME:EDT
DTSTART:20260308T070000
END:DAYLIGHT
BEGIN:STANDARD
TZOFFSETFROM:-0400
TZOFFSETTO:-0500
TZNAME:EST
DTSTART:20261101T060000
END:STANDARD
BEGIN:DAYLIGHT
TZOFFSETFROM:-0500
TZOFFSETTO:-0400
TZNAME:EDT
DTSTART:20270314T070000
END:DAYLIGHT
BEGIN:STANDARD
TZOFFSETFROM:-0400
TZOFFSETTO:-0500
TZNAME:EST
DTSTART:20271107T060000
END:STANDARD
END:VTIMEZONE
BEGIN:VEVENT
DTSTART;TZID=America/New_York:20260517T170000
DTEND;TZID=America/New_York:20260517T200000
DTSTAMP:20260422T043652
CREATED:20260403T130924Z
LAST-MODIFIED:20260421T182318Z
UID:2692-1779037200-1779048000@joannasbanquets.com
SUMMARY:Long Haired Country - Live Music and Line Dancing at Joanna's
DESCRIPTION:LONG HAIRED COUNTRY | LIVE AT JOANNA’S RESTAURANT & BANQUET HALL\nGet ready for a high‑energy night of modern and classic country as Long Haired Country\, one of Connecticut’s most exciting country‑rock bands\, brings their powerhouse sound to Joanna’s Restaurant & Banquet Hall. Known for their gritty vocals\, tight musicianship\, and crowd‑moving stage presence\, Long Haired Country delivers a full‑throttle show that blends Nashville polish with New England attitude. \nExpect a setlist packed with the biggest hits from Luke Combs\, Morgan Wallen\, Jason Aldean\, Chris Stapleton\, Brooks & Dunn\, Eric Church\, and more — plus the band’s signature country‑rock edge that keeps the dance floor packed all night long. If you love real country music with heart\, grit\, and energy\, this is the show you don’t want to miss. \nABOUT LONG HAIRED COUNTRY\nLong Haired Country has built a strong following throughout Connecticut for their authentic country sound\, dynamic live performances\, and ability to turn any venue into a full‑blown country party. Whether they’re covering modern chart‑toppers or classic country anthems\, the band brings unmatched energy and musicianship to every stage they hit. \nEVENT DETAILS\nDate: Sunday\, May 17th\, 2026 \nShowtime: 5:00 PM \nDoors Open: 4:00PM \nLocation: Joanna’s Restaurant & Banquet Hall — 145 Main Street\, Somers\, CTDinner service and cocktails are available before and during the show. Early arrival is strongly recommended for best seating and dinner service. \nRESERVATIONS \nTable reservations are highly encouraged — country nights fill fast. Please call 860-749-5060 to reserve your table. \nView our full menu on our website by clicking HERE \nView our upcoming events on our website by clicking HERE. \n 
URL:https://joannasbanquets.com/event/long-haired-country-live-somers-ct/
LOCATION:Joanna’s Main Hall\, 145 Main St.\, Somers\, CT\, 06071\, United States
CATEGORIES:Country,country line dancing,Live Music
ORGANIZER;CN="Joanna's Restaurant":MAILTO:info@joannas-banquets.com
END:VEVENT
END:VCALENDAR