BEGIN:VCALENDAR
VERSION:2.0
PRODID:-//Joanna&#039;s Restaurant and Banquet Hall - A Complete Dining and Event Experience in Somers, CT - ECPv6.15.20//NONSGML v1.0//EN
CALSCALE:GREGORIAN
METHOD:PUBLISH
X-WR-CALNAME:Joanna&#039;s Restaurant and Banquet Hall - A Complete Dining and Event Experience in Somers, CT
X-ORIGINAL-URL:https://joannasbanquets.com
X-WR-CALDESC:Events for Joanna&#039;s Restaurant and Banquet Hall - A Complete Dining and Event Experience in Somers, CT
REFRESH-INTERVAL;VALUE=DURATION:PT1H
X-Robots-Tag:noindex
X-PUBLISHED-TTL:PT1H
BEGIN:VTIMEZONE
TZID:America/New_York
BEGIN:DAYLIGHT
TZOFFSETFROM:-0500
TZOFFSETTO:-0400
TZNAME:EDT
DTSTART:20250309T070000
END:DAYLIGHT
BEGIN:STANDARD
TZOFFSETFROM:-0400
TZOFFSETTO:-0500
TZNAME:EST
DTSTART:20251102T060000
END:STANDARD
BEGIN:DAYLIGHT
TZOFFSETFROM:-0500
TZOFFSETTO:-0400
TZNAME:EDT
DTSTART:20260308T070000
END:DAYLIGHT
BEGIN:STANDARD
TZOFFSETFROM:-0400
TZOFFSETTO:-0500
TZNAME:EST
DTSTART:20261101T060000
END:STANDARD
BEGIN:DAYLIGHT
TZOFFSETFROM:-0500
TZOFFSETTO:-0400
TZNAME:EDT
DTSTART:20270314T070000
END:DAYLIGHT
BEGIN:STANDARD
TZOFFSETFROM:-0400
TZOFFSETTO:-0500
TZNAME:EST
DTSTART:20271107T060000
END:STANDARD
END:VTIMEZONE
BEGIN:VEVENT
DTSTART;TZID=America/New_York:20260306T183000
DTEND;TZID=America/New_York:20260306T213000
DTSTAMP:20260424T232805
CREATED:20240303T002002Z
LAST-MODIFIED:20260212T183701Z
UID:624-1772821800-1772832600@joannasbanquets.com
SUMMARY:The Willies - Live in the main hall @ Joanna's
DESCRIPTION:The Willies are back at Joanna’s Restaurant & Banquet Hall!\nGet Ready to Dance with The Willies! \nLive at Joanna’s Restaurant and Banquet Hall \nJoin us for a night of timeless tunes and groovy vibes with The Willies! Joanna’s Restaurant and Banquet Hall is proud to present The Willies on March 6th\, from 6:30 PM to 9:30 PM. \n🎶 The Willies: Music Across the Decades! 🎶 \nGet ready for a musical journey through the decades as The Willies perform hits from the 50’s\, 60’s\, 70’s\, and beyond. From rock ‘n roll classics to soulful ballads\, they’ll keep you on your feet and singing along all night long. \nEvent Details: \n\nDate: Friday\, March 6th\, 2026\nTime: 6:30 PM – 9:30 PM\nVenue: Joanna’s Restaurant and Banquet Hall\nAddress: 145 Main St. Somers\n\nAdmission is free for all music lovers. Come early to grab a seat and enjoy a delicious meal before the show begins! \nFor more information or to make table reservations\, please contact us at 860-749-5060. Doors open at 5:00 pm for table seating with dinner. \nDon’t miss your chance to groove to the sounds of The Willies at Joanna’s Restaurant and Banquet Hall! See you there! 🎸🎤
URL:https://joannasbanquets.com/event/the-willies/
LOCATION:Joanna’s Main Hall\, 145 Main St.\, Somers\, CT\, 06071\, United States
CATEGORIES:Hits from the 50's, 60's, 70's, and 80's,Live Music,Oldies Hits,Party and Dancing
ORGANIZER;CN="Joanna's Restaurant":MAILTO:info@joannas-banquets.com
END:VEVENT
BEGIN:VEVENT
DTSTART;TZID=America/New_York:20260307T183000
DTEND;TZID=America/New_York:20260307T213000
DTSTAMP:20260424T232805
CREATED:20240412T141457Z
LAST-MODIFIED:20251226T124630Z
UID:1220-1772908200-1772919000@joannasbanquets.com
SUMMARY:Redhead - Rock from the heart\, Live from Joanna's!
DESCRIPTION:Experience the Passion of Redhead Rocking out live and from the heart! \nGet ready for an electrifying night of music with Redhead! Join us at Joanna’s Restaurant and Banquet Hall on March 7th!! \nImmerse yourself in the soulful sounds and captivating energy of Redhead as they take center stage. With their dynamic vocals and powerful melodies\, Redhead promises an unforgettable evening of music and entertainment. \nEvent Details: \n\nDate: March 7th\nTime: 6:30 PM – 9:30 PM\nVenue: Joanna’s Restaurant and Banquet Hall\nAddress: 145 Main St.\, Somers\, CT\n\nAdmission is free for all music enthusiasts. Come early to secure your spot and enjoy a delicious meal before the show begins! \nFor table reservations or more information\, please contact us at 860-749-5060. Doors open at 5:00 pm for dinner tables! \nDon’t miss your chance to experience the passion of Redhead live at Joanna’s Restaurant and Banquet Hall! See you there! 🎶🔥 \n(20+) Facebook \nRedhead Rocking Live at Joanna’s
URL:https://joannasbanquets.com/event/redhead-rocking/
LOCATION:Joanna’s Main Hall\, 145 Main St.\, Somers\, CT\, 06071\, United States
CATEGORIES:Classic Rock,Live Music
ATTACH;FMTTYPE=image/jpeg:https://joannasbanquets.com/wp-content/uploads/2024/04/Redhead-graphic-art.jpg
ORGANIZER;CN="Joanna's Restaurant":MAILTO:info@joannas-banquets.com
END:VEVENT
BEGIN:VEVENT
DTSTART;TZID=America/New_York:20260313T183000
DTEND;TZID=America/New_York:20260313T213000
DTSTAMP:20260424T232805
CREATED:20251004T142306Z
LAST-MODIFIED:20251226T125130Z
UID:2308-1773426600-1773437400@joannasbanquets.com
SUMMARY:The 60's Experience - Live at Joanna's
DESCRIPTION:Live Music This Saturday at Joanna’s! The 60’s Experience live at Joanna’s!! \nJoin us Friday\, March 13th from 6:30 PM to 9:30 PM for an unforgettable night with The 60’s Experience\, a high-energy band based out of Bernardston\, MA! \nEnjoy all your favorite hits from the 1960s — from classic rock to soulful Motown — while you dine\, drink\, and dance the night away. \nBring your friends\, grab a cocktail\, and make it a night to remember at Joanna’s Restaurant & Bar. \nFriday\, March 13th6:30 PM – 9:30 PMThe 60’s Experience \nCall to reserve your table now — seating fills fast for live music nights! \nThe 60’s Experience live at Joanna’s \nUpcoming events at Joanna’s
URL:https://joannasbanquets.com/event/the-60s-experience-live-at-joannas/
LOCATION:Joanna’s Main Hall\, 145 Main St.\, Somers\, CT\, 06071\, United States
CATEGORIES:Hits from the 60's,Live Music,Party and Dancing
ATTACH;FMTTYPE=image/jpeg:https://joannasbanquets.com/wp-content/uploads/2025/10/60s-experience.jpg
ORGANIZER;CN="Joanna's Restaurant":MAILTO:info@joannas-banquets.com
END:VEVENT
BEGIN:VEVENT
DTSTART;TZID=America/New_York:20260314T183000
DTEND;TZID=America/New_York:20260314T213000
DTSTAMP:20260424T232805
CREATED:20251226T125520Z
LAST-MODIFIED:20251226T130043Z
UID:2499-1773513000-1773523800@joannasbanquets.com
SUMMARY:Union Jack\, A British Invasion Band - Live in the Main Hall @ Joannas
DESCRIPTION:Experience a British invasion with Union Jack Band! Live at Joanna’s \nPrepare to be transported across the pond as Union Jack Band brings the spirit of British rock to Joanna’s Restaurant and Banquet Hall! Join us on Saturday\, March 14th at 6:30 PM for an evening filled with iconic hits and timeless classics. \n🎸 Union Jack Band: Your Ticket to British Rock Royalty!🎶 \nIndulge in the sounds of the British Invasion as Union Jack Band pays homage to legendary artists like The Beatles\, The Rolling Stones\, and Led Zeppelin. With their authentic sound and electrifying performance\, they’ll have you singing along and dancing the night away! \nEvent Details: \n\nDate: March 14th\nTime: 6:30 PM onwards\nVenue: Joanna’s Restaurant and Banquet Hall\nAddress: 145 Main St.\, Somers\n\nAdmission is free for all music enthusiasts. Bring your friends\, family\, and fellow rock aficionados for a night of British rock nostalgia! \nFor more information or reservations\, please contact us at 860-749-5060. Doors open at 5:00 pm for dinner reservations! \nDon’t miss your chance to experience the magic of British rock with Union Jack Band at Joanna’s Restaurant and Banquet Hall! Let’s make it a night to remember! 🎵🎉 \nA British invasion with Union Jack Band \nUpcoming events at Joanna’s
URL:https://joannasbanquets.com/event/union-jack-live-in-the-main-hall-joannas/
LOCATION:Joanna’s Main Hall\, 145 Main St.\, Somers\, CT\, 06071\, United States
CATEGORIES:Beatles,Live Music,Party and Dancing,Rock and Roll
ATTACH;FMTTYPE=image/jpeg:https://joannasbanquets.com/wp-content/uploads/2024/05/Union-Jack.jpg
ORGANIZER;CN="Joanna's Restaurant":MAILTO:info@joannas-banquets.com
END:VEVENT
BEGIN:VEVENT
DTSTART;TZID=America/New_York:20260315T170000
DTEND;TZID=America/New_York:20260315T200000
DTSTAMP:20260424T232805
CREATED:20260212T185237Z
LAST-MODIFIED:20260219T054835Z
UID:2580-1773594000-1773604800@joannasbanquets.com
SUMMARY:Country Line Dancing Night at Joanna’s with Jim Blanch & Boothill!
DESCRIPTION:Country Line Dancing Night at Joanna’s with Jim Blanch & Boothill!\nFeaturing Jim Blanch & Boothill \nKick up some dust and get ready for a boot‑stompin’\, high‑energy night right here in Somers! Whether you’re a seasoned line dancer or just looking for a fun night out\, this is the place to be. \n🌟 What’s Happening\n\n🎵 Live Country Music from Jim Blanch & Boothill\n👢 Line Dancing Lessons for all levels — beginners welcome\n🍔 Great Food hot off the grill\n🍕 Try our new and improved pizza crust- light\, crispy\, and flavorful!\n🍻 Ice‑Cold Drinks to keep you refreshed\n🤠 A lively\, welcoming crowd that makes the night even better\n\n📅 Sunday\, March 15th\n⏰ 5:00 PM – Main Hall (Banquet Hall) \n📍 Joanna’s Restaurant & Banquet Hall | 145 Main St. Somers\, CT 06071 \nBring your friends\, bring your boots\, and bring your best two‑step — this is the kind of small‑town fun Somers does best. The music’s loud\, the energy’s high\, and the dance floor is waiting. \n🎟️ Admission: FREE\n🏃🏻‍➡️  Arrive early for the best seats and the shortest wait times. 🏃🏻‍♀️ \n📞 Reserve Your Spot: 860‑749‑5060 \nGet ready to dance\, laugh\, and make a night of it at Joann’s Café. Somers\, we’ll see you on the dance floor!
URL:https://joannasbanquets.com/event/country-line-with-jim-blanch-boothill-at-joannas-cafe-2/
LOCATION:Joanna’s Main Hall\, 145 Main St.\, Somers\, CT\, 06071\, United States
CATEGORIES:Country,country line dancing
ATTACH;FMTTYPE=image/jpeg:https://joannasbanquets.com/wp-content/uploads/2026/02/ChatGPT-Image-Feb-19-2026-12_41_57-AM.jpg
ORGANIZER;CN="Joanna's Restaurant":MAILTO:info@joannas-banquets.com
END:VEVENT
BEGIN:VEVENT
DTSTART;TZID=America/New_York:20260327T183000
DTEND;TZID=America/New_York:20260327T213000
DTSTAMP:20260424T232805
CREATED:20240625T144627Z
LAST-MODIFIED:20260219T052321Z
UID:1530-1774636200-1774647000@joannasbanquets.com
SUMMARY:The Score - Live in the main hall @ Joanna's
DESCRIPTION:🎸 The Score Live at Joanna’s Restaurant & Banquet Hall\nFriday\, March 27th | 6:30 PM – 9:30 PM | Somers\, Connecticut\nGet ready for an exciting night of live rock music as The Score performs at Joanna’s Restaurant & Banquet Hall in Somers\, CT. This high‑energy Connecticut rock band is known for powerful vocals\, dynamic guitar work\, and a set list packed with rock favorites that keep the crowd moving. \n⭐ About The Score – Connecticut’s High‑Energy Rock Band\nThe Score delivers an electrifying mix of classic rock\, modern rock\, and upbeat anthems. Their strong stage presence\, tight musicianship\, and crowd‑pleasing set lists make them a favorite for live music fans across Connecticut. \nExpect: \n\nPowerful lead vocals\nHigh‑energy guitar solos\nDriving rock rhythms\nPopular rock hits from multiple decades\n\nIf you love live rock music in a fun\, welcoming atmosphere\, this is the perfect night out. \n📅 Event Details\n\nDate: Friday\, March 27th\n⏰ Time: 6:30 PM – 9:30 PM\n📍Location: Joanna’s Restaurant & Banquet Hall |145 Main Street\, Somers\, CT 06071\nAdmission: Free\n\n🍽️ Enjoy Dinner\, Drinks & Live Rock Music\nMake it a full evening with dinner before the show. Joanna’s Main Hall opens at 5:00 PM for dinner reservations and features a full menu\, including: \n\nSpecialty pizzas\, featuring our NEW delicious Crust!\nItalian‑American classics\nPrime rib\nSeafood dinners\nHandcrafted cocktails\nFull bar\n\nBring your friends\, family\, and fellow rock fans for a great night of food\, drinks\, and live entertainment in Somers. \nReservations recommended: 📞 860‑749‑5060 \n🎶 Don’t Miss The Score Live at Joanna’s\nExperience one of Connecticut’s most exciting rock bands in a family‑friendly venue known for great food and great music. Join us at Joanna’s Restaurant & Banquet Hall for an unforgettable night with The Score. \nUpcoming events at Joanna’s
URL:https://joannasbanquets.com/event/the-score-live-in-the-main-hall-joannas-3/
LOCATION:Joanna’s Main Hall\, 145 Main St.\, Somers\, CT\, 06071\, United States
CATEGORIES:Live Music
ATTACH;FMTTYPE=image/jpeg:https://joannasbanquets.com/wp-content/uploads/2024/03/The-Score-Rocks.jpg
ORGANIZER;CN="Joanna's Restaurant":MAILTO:info@joannas-banquets.com
END:VEVENT
BEGIN:VEVENT
DTSTART;TZID=America/New_York:20260328T183000
DTEND;TZID=America/New_York:20260328T213000
DTSTAMP:20260424T232805
CREATED:20241219T150225Z
LAST-MODIFIED:20260226T034701Z
UID:1830-1774722600-1774733400@joannasbanquets.com
SUMMARY:Cobblestone Road - Live Country Music at Joanna's Restaurant
DESCRIPTION:Cobblestone Road LIVE at Joanna’s Café!\nSaturday\, March 28 • 6:30 PM • Joanna’s Restaurant & Banquet Hall\nGet ready\, Somers — Cobblestone Road is returning to Joanna’s for a Saturday night country party you won’t forget. Cobblestone Road’s shows always bring high‑energy music\, dancing\, and a lively crowd\, and this performance will be no exception. If you’ve been craving a fun night out with great food\, great music\, and great company\, this is the night to circle on your calendar. \nLive Country Music With Cobblestone Road in Somers\, CT\nCobblestone Road is known for their upbeat sound\, strong vocals\, and ability to get the whole room moving. Their mix of modern country hits and classic favorites creates a feel‑good atmosphere that appeals to every generation. Because they bring such a dynamic presence to the stage\, Cobblestone Road Somers CT events always fill the room with energy\, smiles\, and plenty of foot‑stomping fun. \nWhat to Expect at This Cobblestone Road Performance at Joanna’s\nThis Saturday night’s performance offers something for everyone. Whether you love to dance\, sing along\, or simply enjoy live music with friends\, Cobblestone Road delivers a memorable experience. The atmosphere at Joanna’s is warm and welcoming\, and our full bar will be open all night with cold drinks to keep the party going. \nCome Early for Dinner\nOur kitchen will be serving your favorite dishes throughout the evening. From comfort‑food classics to Italian‑American favorites\, there’s something for every appetite. Arriving early ensures the best seats and the shortest wait times. \nEvent Details\n\nDate: Saturday\, March 28\nTime: 6:30 PM\nLocation: Joanna’s Restaurant & Banquet Hall\nAddress: 145 Main Street\, Somers\, CT\nAdmission: FREE\n\n📞 Reserve Your Spot: 860‑749‑5060 \n \nMark your calendars and bring your friends—Joanna’s Restaurant & Banquet Hall in Somers\, CT\, is the place to be on March 28th! \nCheck out our future events here: Joanna’s Events
URL:https://joannasbanquets.com/event/cobblestone-road-somers-ct/
LOCATION:Joanna’s Main Hall\, 145 Main St.\, Somers\, CT\, 06071\, United States
CATEGORIES:Country,Party and Dancing
ATTACH;FMTTYPE=image/jpeg:https://joannasbanquets.com/wp-content/uploads/2024/12/CSR-Band.jpg
ORGANIZER;CN="Joanna's Restaurant":MAILTO:info@joannas-banquets.com
END:VEVENT
END:VCALENDAR