BEGIN:VCALENDAR
VERSION:2.0
PRODID:-//Joanna&#039;s Restaurant and Banquet Hall - A Complete Dining and Event Experience in Somers, CT - ECPv6.15.20//NONSGML v1.0//EN
CALSCALE:GREGORIAN
METHOD:PUBLISH
X-ORIGINAL-URL:https://joannasbanquets.com
X-WR-CALDESC:Events for Joanna&#039;s Restaurant and Banquet Hall - A Complete Dining and Event Experience in Somers, CT
REFRESH-INTERVAL;VALUE=DURATION:PT1H
X-Robots-Tag:noindex
X-PUBLISHED-TTL:PT1H
BEGIN:VTIMEZONE
TZID:America/New_York
BEGIN:DAYLIGHT
TZOFFSETFROM:-0500
TZOFFSETTO:-0400
TZNAME:EDT
DTSTART:20250309T070000
END:DAYLIGHT
BEGIN:STANDARD
TZOFFSETFROM:-0400
TZOFFSETTO:-0500
TZNAME:EST
DTSTART:20251102T060000
END:STANDARD
BEGIN:DAYLIGHT
TZOFFSETFROM:-0500
TZOFFSETTO:-0400
TZNAME:EDT
DTSTART:20260308T070000
END:DAYLIGHT
BEGIN:STANDARD
TZOFFSETFROM:-0400
TZOFFSETTO:-0500
TZNAME:EST
DTSTART:20261101T060000
END:STANDARD
BEGIN:DAYLIGHT
TZOFFSETFROM:-0500
TZOFFSETTO:-0400
TZNAME:EDT
DTSTART:20270314T070000
END:DAYLIGHT
BEGIN:STANDARD
TZOFFSETFROM:-0400
TZOFFSETTO:-0500
TZNAME:EST
DTSTART:20271107T060000
END:STANDARD
END:VTIMEZONE
BEGIN:VEVENT
DTSTART;TZID=America/New_York:20260404T183000
DTEND;TZID=America/New_York:20260404T213000
DTSTAMP:20260424T232950
CREATED:20241118T194140Z
LAST-MODIFIED:20260331T172541Z
UID:1785-1775327400-1775338200@joannasbanquets.com
SUMMARY:Smokehouse - Country Music LIVE at Joanna's Restaurant & Banquet Hall
DESCRIPTION:🤠 Smokehouse Band Live at Joanna’s\nSaturday\, April 4th\, 2026 | 6:30 PM – 9:30 PM\nJoanna’s Restaurant & Banquet Hall – 145 Main Street\, Somers\, CT\nSmokehouse Band returns to Joanna’s Restaurant & Banquet Hall on Friday\, April 4th for a high‑energy night of 90s and 2000s country hits\, great food\, and a fun night out in Somers\, CT. This vocal‑driven band brings the best in modern and classic country with a dance‑ready sound that keeps the crowd moving all night long. \n🎶 A Night of Dance‑Ready Country Hits\nSmokehouse delivers a lively mix of: \n\n90s country favorites\nEarly‑2000s country hits\nStrong vocals and harmonies\nHigh‑energy arrangements that fill the room\n\nWith performances from Maine to Nashville\, Smokehouse is known for tight harmonies\, feel‑good energy\, and a stage presence that pulls everyone into the fun. \n🍽️ Come Early for Dinner\nMake it a full night out with dinner before the show. Joanna’s offers: \n\nWeekend prime rib\nSpecialty pizzas featuring our new pizza crust\nItalian‑American comfort classics\nHot‑off‑the‑grill favorites\nIce‑cold drinks and full bar service\n\n📅 Event Details\n\nDate: Saturday\, April 4th\, 2026\nTime: 6:30 PM – 9:30 PM\nLocation: Joanna’s Restaurant & Banquet Hall\nAddress: 145 Main Street\, Somers\, CT 06071\nAdmission: Free\n\n📞 Reservations\nCall 860‑749‑5060 to reserve your table. \n⭐ Don’t Miss Smokehouse Band at Joanna’s\nRound up your friends\, grab a table\, and join us for a night of great food\, great company\, and the high‑energy country sound only Smokehouse can deliver. See you at Joanna’s!
URL:https://joannasbanquets.com/event/smokehouse-band-live-country-music/
LOCATION:Joanna’s Main Hall\, 145 Main St.\, Somers\, CT\, 06071\, United States
CATEGORIES:Country,Live Music
ATTACH;FMTTYPE=image/png:https://joannasbanquets.com/wp-content/uploads/2024/11/Image-2-17-26-at-7.33-PM.png
ORGANIZER;CN="Joanna's Restaurant":MAILTO:info@joannas-banquets.com
END:VEVENT
END:VCALENDAR