BEGIN:VCALENDAR
VERSION:2.0
PRODID:-//Joanna&#039;s Restaurant and Banquet Hall - A Complete Dining and Event Experience in Somers, CT - ECPv6.15.20//NONSGML v1.0//EN
CALSCALE:GREGORIAN
METHOD:PUBLISH
X-ORIGINAL-URL:https://joannasbanquets.com
X-WR-CALDESC:Events for Joanna&#039;s Restaurant and Banquet Hall - A Complete Dining and Event Experience in Somers, CT
REFRESH-INTERVAL;VALUE=DURATION:PT1H
X-Robots-Tag:noindex
X-PUBLISHED-TTL:PT1H
BEGIN:VTIMEZONE
TZID:America/New_York
BEGIN:DAYLIGHT
TZOFFSETFROM:-0500
TZOFFSETTO:-0400
TZNAME:EDT
DTSTART:20250309T070000
END:DAYLIGHT
BEGIN:STANDARD
TZOFFSETFROM:-0400
TZOFFSETTO:-0500
TZNAME:EST
DTSTART:20251102T060000
END:STANDARD
BEGIN:DAYLIGHT
TZOFFSETFROM:-0500
TZOFFSETTO:-0400
TZNAME:EDT
DTSTART:20260308T070000
END:DAYLIGHT
BEGIN:STANDARD
TZOFFSETFROM:-0400
TZOFFSETTO:-0500
TZNAME:EST
DTSTART:20261101T060000
END:STANDARD
BEGIN:DAYLIGHT
TZOFFSETFROM:-0500
TZOFFSETTO:-0400
TZNAME:EDT
DTSTART:20270314T070000
END:DAYLIGHT
BEGIN:STANDARD
TZOFFSETFROM:-0400
TZOFFSETTO:-0500
TZNAME:EST
DTSTART:20271107T060000
END:STANDARD
END:VTIMEZONE
BEGIN:VEVENT
DTSTART;TZID=America/New_York:20260411T183000
DTEND;TZID=America/New_York:20260411T213000
DTSTAMP:20260424T233407
CREATED:20260319T192107Z
LAST-MODIFIED:20260319T202007Z
UID:2654-1775932200-1775943000@joannasbanquets.com
SUMMARY:LIVE Music Somers CT | 91 South at Joanna's Restaurant
DESCRIPTION:Live Music Somers\, CT | 91 South at Joanna’s Restaurant\nLooking for live music Somers\, CT? Join us at Joanna’s in Somers\, CT for an unforgettable night with 91 South\, a high-energy five-piece band from Massachusetts. \nKnown for their powerful vocals and tight musicianship\, 91 South delivers a professional and crowd-pleasing performance. As a result\, the dance floor stays moving all night. \nEnjoy a setlist packed with classic rock favorites from legends like Elvis Presley\, The Beatles\, Johnny Cash\, The Rolling Stones\, and The Doors. In addition\, you’ll hear high-energy hits from Bon Jovi\, AC/DC\, and Van Halen. \nWith decades of combined experience performing across Massachusetts and Connecticut\, the band brings polished sound\, strong three-part harmonies\, and an electric stage presence. Whether you’re coming for dinner\, drinks\, or live entertainment\, this is a night you don’t want to miss. \nWhy Joanna’s is the Go-To Spot for Live Music in Somers\, CT\nJoanna’s is one of the top destinations for live music in Somers\, CT. Not only do we offer great food\, but we also provide a welcoming and energetic atmosphere. \nIn addition\, we feature some of the best local bands in Connecticut. Whether you’re planning a night out with friends or a relaxed evening\, our events deliver a memorable experience. \nFrom classic rock bands to crowd-favorite performers\, we consistently bring top-tier live music to our stage. As a result\, guests enjoy a full menu\, great drinks\, and an experience that keeps them coming back. \n \n👉 Reserve your table early and experience one of the best live music nights in the area. \nTo view our full service menu\, please click here! \nTo view our list of upcoming events\, please click here! \nPlease call 860-749-5060 to make reservations. \nLocation: 145 Main St. Somers CT\, 06071 \nVenue: Joanna’s Restaurant & Banquet Hall
URL:https://joannasbanquets.com/event/live-music-somers-ct-91-south/
LOCATION:Joanna’s Main Hall\, 145 Main St.\, Somers\, CT\, 06071\, United States
CATEGORIES:Classic Rock,Live Music,Rock and Roll
ATTACH;FMTTYPE=image/jpeg:https://joannasbanquets.com/wp-content/uploads/2026/03/ChatGPT-Image-Mar-19-2026-03_02_45-PM.jpg
ORGANIZER;CN="Joanna's Restaurant":MAILTO:info@joannas-banquets.com
END:VEVENT
END:VCALENDAR