BEGIN:VCALENDAR
VERSION:2.0
PRODID:-//Joanna&#039;s Restaurant and Banquet Hall - A Complete Dining and Event Experience in Somers, CT - ECPv6.15.20//NONSGML v1.0//EN
CALSCALE:GREGORIAN
METHOD:PUBLISH
X-ORIGINAL-URL:https://joannasbanquets.com
X-WR-CALDESC:Events for Joanna&#039;s Restaurant and Banquet Hall - A Complete Dining and Event Experience in Somers, CT
REFRESH-INTERVAL;VALUE=DURATION:PT1H
X-Robots-Tag:noindex
X-PUBLISHED-TTL:PT1H
BEGIN:VTIMEZONE
TZID:America/New_York
BEGIN:DAYLIGHT
TZOFFSETFROM:-0500
TZOFFSETTO:-0400
TZNAME:EDT
DTSTART:20250309T070000
END:DAYLIGHT
BEGIN:STANDARD
TZOFFSETFROM:-0400
TZOFFSETTO:-0500
TZNAME:EST
DTSTART:20251102T060000
END:STANDARD
BEGIN:DAYLIGHT
TZOFFSETFROM:-0500
TZOFFSETTO:-0400
TZNAME:EDT
DTSTART:20260308T070000
END:DAYLIGHT
BEGIN:STANDARD
TZOFFSETFROM:-0400
TZOFFSETTO:-0500
TZNAME:EST
DTSTART:20261101T060000
END:STANDARD
BEGIN:DAYLIGHT
TZOFFSETFROM:-0500
TZOFFSETTO:-0400
TZNAME:EDT
DTSTART:20270314T070000
END:DAYLIGHT
BEGIN:STANDARD
TZOFFSETFROM:-0400
TZOFFSETTO:-0500
TZNAME:EST
DTSTART:20271107T060000
END:STANDARD
END:VTIMEZONE
BEGIN:VEVENT
DTSTART;TZID=America/New_York:20260412T170000
DTEND;TZID=America/New_York:20260412T200000
DTSTAMP:20260424T233408
CREATED:20260219T020251Z
LAST-MODIFIED:20260219T232142Z
UID:2599-1776013200-1776024000@joannasbanquets.com
SUMMARY:🎶 Live Country Music: Dick Drake & Friends at Joanna's Restaurant & Banquet Hall
DESCRIPTION:🎶 Dick Drake & Friends Live in Somers\, CT\nSunday\, April 12th\, 2026 | 5:00 PM – 8:00 PM\nJoanna’s Restaurant & Banquet Hall – 145 Main Street\, Somers\, CT\nDick Drake & Friends return to Joanna’s Restaurant & Banquet Hall on Sunday\, April 12th for a night of live country music\, great food\, and a warm\, family‑friendly atmosphere. Their blend of modern country hits and classic favorites makes this one of the most enjoyable live music nights in Northern Connecticut. \n🤠 Kick Back\, Relax & Enjoy the Show\nExpect a lively\, welcoming atmosphere with: \n\nHigh‑energy live country music\nA family‑friendly dining room\nIce‑cold drinks from our full bar\nNo cover charge\n\nIt’s the perfect way to spend a Sunday evening with friends and family. \n🍽️ Come Hungry — Dinner Starts Early\nMake your night even better with Joanna’s weekend favorites: \n🥩 Weekend Prime Rib\nSlow‑roasted\, tender\, and served every weekend — a Joanna’s classic. \n🍕 Our All‑New Pizza Crust\nCrisp\, flavorful\, and already a customer favorite. \n🍝 Italian‑American Comfort Classics\nYour favorite dishes\, served fresh all night long. \nFull bar • Family‑friendly • No cover charge \n📅 Event Details\n\nDate: Sunday\, April 12th\, 2026\nTime: 5:00 PM – 8:00 PM\nLocation: Joanna’s Restaurant & Banquet Hall\nAddress: 145 Main Street\, Somers\, CT 06071\nAdmission: Free\n\n📞 Reservations\nReserve your table by calling 860‑749‑5060. \n🎶 Join Us for a Great Night of Country Music\nBring your boots\, bring your appetite\, and settle in for a fun evening with Dick Drake & Friends at Joanna’s Restaurant & Banquet Hall.
URL:https://joannasbanquets.com/event/dick-drake-and-friends-live-country-music/
LOCATION:Joanna’s Main Hall\, 145 Main St.\, Somers\, CT\, 06071\, United States
CATEGORIES:Country,Live Music
ATTACH;FMTTYPE=image/jpeg:https://joannasbanquets.com/wp-content/uploads/2025/06/Dick-Drake-and-friends-Ai-2.jpg
ORGANIZER;CN="Joanna's Restaurant":MAILTO:info@joannas-banquets.com
END:VEVENT
END:VCALENDAR