BEGIN:VCALENDAR
VERSION:2.0
PRODID:-//Joanna&#039;s Restaurant and Banquet Hall - A Complete Dining and Event Experience in Somers, CT - ECPv6.15.20//NONSGML v1.0//EN
CALSCALE:GREGORIAN
METHOD:PUBLISH
X-ORIGINAL-URL:https://joannasbanquets.com
X-WR-CALDESC:Events for Joanna&#039;s Restaurant and Banquet Hall - A Complete Dining and Event Experience in Somers, CT
REFRESH-INTERVAL;VALUE=DURATION:PT1H
X-Robots-Tag:noindex
X-PUBLISHED-TTL:PT1H
BEGIN:VTIMEZONE
TZID:America/New_York
BEGIN:DAYLIGHT
TZOFFSETFROM:-0500
TZOFFSETTO:-0400
TZNAME:EDT
DTSTART:20250309T070000
END:DAYLIGHT
BEGIN:STANDARD
TZOFFSETFROM:-0400
TZOFFSETTO:-0500
TZNAME:EST
DTSTART:20251102T060000
END:STANDARD
BEGIN:DAYLIGHT
TZOFFSETFROM:-0500
TZOFFSETTO:-0400
TZNAME:EDT
DTSTART:20260308T070000
END:DAYLIGHT
BEGIN:STANDARD
TZOFFSETFROM:-0400
TZOFFSETTO:-0500
TZNAME:EST
DTSTART:20261101T060000
END:STANDARD
BEGIN:DAYLIGHT
TZOFFSETFROM:-0500
TZOFFSETTO:-0400
TZNAME:EDT
DTSTART:20270314T070000
END:DAYLIGHT
BEGIN:STANDARD
TZOFFSETFROM:-0400
TZOFFSETTO:-0500
TZNAME:EST
DTSTART:20271107T060000
END:STANDARD
END:VTIMEZONE
BEGIN:VEVENT
DTSTART;TZID=America/New_York:20260503T160000
DTEND;TZID=America/New_York:20260503T190000
DTSTAMP:20260424T233958
CREATED:20240412T141255Z
LAST-MODIFIED:20260421T174613Z
UID:1217-1777824000-1777834800@joannasbanquets.com
SUMMARY:AQUANETT: LIVE at Joanna's Restaurant & Banquet Hall
DESCRIPTION:AQUANETT | LIVE AT JOANNA’S RESTAURANT & BANQUET HALL\nStep into a full‑throttle 80s rock experience as Aquanett performs live at Joanna’s Restaurant!  New England’s premier hair‑metal tribute band\, returns to Joanna’s Restaurant & Banquet Hall for an explosive evening of soaring vocals\, shredding guitars\, and the biggest anthems of the era. \nWhat to Expect\nThe full Aquanett experience!!  Lights\, effects\, attitude\, and the high‑energy arena‑style show they’re known for across the Northeast. \nFrom Bon Jovi and Poison to Mötley Crüe\, Def Leppard\, Whitesnake\, and more\, Aquanett delivers the soundtrack of the Sunset Strip with unmatched authenticity. \n\n🎸 EVENT DETAILS\nDate: Sunday\, May 3rd\, 2026 \nShowtime: 4:00 PM \nDoors Open: 3:00 PM for dinner seating \nLocation: Joanna’s Restaurant & Banquet Hall — 145 Main Street\, Somers\, CT \nCover: $15 at the door \nDinner service and cocktails available before and during the show. Early arrival is strongly recommended for the best seating. \nRESERVATIONS\nTable reservations are highly encouraged — Aquanett events fill fast. Call 860-749-5060 to reserve your table. \nView our full menu on our website by clicking HERE. \nTo view our future events\, check our events page by clicking HERE. \n📞 Call 860‑749‑5060
URL:https://joannasbanquets.com/event/aquanett-live-somers-ct/
LOCATION:Joanna’s Main Hall\, 145 Main St.\, Somers\, CT\, 06071\, United States
CATEGORIES:Classic Rock,Live Music,Metal,Rock and Roll
ATTACH;FMTTYPE=image/avif:https://joannasbanquets.com/wp-content/uploads/2024/04/aquanett-scaled.avif
ORGANIZER;CN="Joanna's Restaurant":MAILTO:info@joannas-banquets.com
END:VEVENT
END:VCALENDAR