BEGIN:VCALENDAR
VERSION:2.0
PRODID:-//Joanna&#039;s Restaurant and Banquet Hall - A Complete Dining and Event Experience in Somers, CT - ECPv6.15.20//NONSGML v1.0//EN
CALSCALE:GREGORIAN
METHOD:PUBLISH
X-ORIGINAL-URL:https://joannasbanquets.com
X-WR-CALDESC:Events for Joanna&#039;s Restaurant and Banquet Hall - A Complete Dining and Event Experience in Somers, CT
REFRESH-INTERVAL;VALUE=DURATION:PT1H
X-Robots-Tag:noindex
X-PUBLISHED-TTL:PT1H
BEGIN:VTIMEZONE
TZID:America/New_York
BEGIN:DAYLIGHT
TZOFFSETFROM:-0500
TZOFFSETTO:-0400
TZNAME:EDT
DTSTART:20230312T070000
END:DAYLIGHT
BEGIN:STANDARD
TZOFFSETFROM:-0400
TZOFFSETTO:-0500
TZNAME:EST
DTSTART:20231105T060000
END:STANDARD
BEGIN:DAYLIGHT
TZOFFSETFROM:-0500
TZOFFSETTO:-0400
TZNAME:EDT
DTSTART:20240310T070000
END:DAYLIGHT
BEGIN:STANDARD
TZOFFSETFROM:-0400
TZOFFSETTO:-0500
TZNAME:EST
DTSTART:20241103T060000
END:STANDARD
BEGIN:DAYLIGHT
TZOFFSETFROM:-0500
TZOFFSETTO:-0400
TZNAME:EDT
DTSTART:20250309T070000
END:DAYLIGHT
BEGIN:STANDARD
TZOFFSETFROM:-0400
TZOFFSETTO:-0500
TZNAME:EST
DTSTART:20251102T060000
END:STANDARD
BEGIN:DAYLIGHT
TZOFFSETFROM:-0500
TZOFFSETTO:-0400
TZNAME:EDT
DTSTART:20260308T070000
END:DAYLIGHT
BEGIN:STANDARD
TZOFFSETFROM:-0400
TZOFFSETTO:-0500
TZNAME:EST
DTSTART:20261101T060000
END:STANDARD
BEGIN:DAYLIGHT
TZOFFSETFROM:-0500
TZOFFSETTO:-0400
TZNAME:EDT
DTSTART:20270314T070000
END:DAYLIGHT
BEGIN:STANDARD
TZOFFSETFROM:-0400
TZOFFSETTO:-0500
TZNAME:EST
DTSTART:20271107T060000
END:STANDARD
END:VTIMEZONE
BEGIN:VEVENT
DTSTART;TZID=America/New_York:20260306T183000
DTEND;TZID=America/New_York:20260306T213000
DTSTAMP:20260424T221432
CREATED:20240303T002002Z
LAST-MODIFIED:20260212T183701Z
UID:624-1772821800-1772832600@joannasbanquets.com
SUMMARY:The Willies - Live in the main hall @ Joanna's
DESCRIPTION:The Willies are back at Joanna’s Restaurant & Banquet Hall!\nGet Ready to Dance with The Willies! \nLive at Joanna’s Restaurant and Banquet Hall \nJoin us for a night of timeless tunes and groovy vibes with The Willies! Joanna’s Restaurant and Banquet Hall is proud to present The Willies on March 6th\, from 6:30 PM to 9:30 PM. \n🎶 The Willies: Music Across the Decades! 🎶 \nGet ready for a musical journey through the decades as The Willies perform hits from the 50’s\, 60’s\, 70’s\, and beyond. From rock ‘n roll classics to soulful ballads\, they’ll keep you on your feet and singing along all night long. \nEvent Details: \n\nDate: Friday\, March 6th\, 2026\nTime: 6:30 PM – 9:30 PM\nVenue: Joanna’s Restaurant and Banquet Hall\nAddress: 145 Main St. Somers\n\nAdmission is free for all music lovers. Come early to grab a seat and enjoy a delicious meal before the show begins! \nFor more information or to make table reservations\, please contact us at 860-749-5060. Doors open at 5:00 pm for table seating with dinner. \nDon’t miss your chance to groove to the sounds of The Willies at Joanna’s Restaurant and Banquet Hall! See you there! 🎸🎤
URL:https://joannasbanquets.com/event/the-willies/
LOCATION:Joanna’s Main Hall\, 145 Main St.\, Somers\, CT\, 06071\, United States
CATEGORIES:Hits from the 50's, 60's, 70's, and 80's,Live Music,Oldies Hits,Party and Dancing
ORGANIZER;CN="Joanna's Restaurant":MAILTO:info@joannas-banquets.com
END:VEVENT
BEGIN:VEVENT
DTSTART;TZID=America/New_York:20260213T183000
DTEND;TZID=America/New_York:20260213T213000
DTSTAMP:20260424T221432
CREATED:20250414T222609Z
LAST-MODIFIED:20260203T222508Z
UID:1905-1771007400-1771018200@joannasbanquets.com
SUMMARY:Cover 2 Cover - Live at Joanna's Restaurant & Banquet Hall
DESCRIPTION:🎶 Cover 2 Cover LIVE at Joanna’s!\nA Night of High‑Energy Dance Music & Great Food \nGet ready to move — Cover 2 Cover is bringing their powerhouse mix of pop\, rock\, funk\, and dance hits to Joanna’s Restaurant in Somers\, CT. If you’re looking for a night packed with energy\, great music\, and a full room of people having a blast\, this is it. \nAnd while you’re here… \n🍕 Try Our NEW Pizza Dough Recipe!\nWe’ve been perfecting this dough for months — lighter texture\, richer flavor\, and that perfect crisp‑chewy balance. It’s officially debuting this weekend\, and there’s no better pairing than live music + fresh‑from‑the‑oven pizza. \n🍕 Pick From a Variety of Weekend Dinner Specials!\nWhat You Can Expect:\n\n🎤 Live music from Cover 2 Cover\n🎵 Dance‑floor favorites from every decade\n🍽️ Full menu + our brand‑new pizza dough\, weekend dinner specials\n🍹 Great vibes\, great drinks\, great company\n🎉 A fun\, high‑energy night out in Somers\n\nBring your friends\, grab some dinner\, and dance the night away. Joanna’s is the place to be. \n\n \n860-749-5060 to make your reservations today!!
URL:https://joannasbanquets.com/event/high-energy-dance-music/
LOCATION:Joanna’s Main Hall\, 145 Main St.\, Somers\, CT\, 06071\, United States
CATEGORIES:Classic Rock,Hits from the 50's, 60's, 70's, and 80's,Live Music,Party and Dancing
ATTACH;FMTTYPE=image/jpeg:https://joannasbanquets.com/wp-content/uploads/2024/03/Cover-2-Cover.jpg
ORGANIZER;CN="Joanna's Restaurant":MAILTO:info@joannas-banquets.com
END:VEVENT
BEGIN:VEVENT
DTSTART;TZID=America/New_York:20260124T183000
DTEND;TZID=America/New_York:20260124T213000
DTSTAMP:20260424T221432
CREATED:20240823T125039Z
LAST-MODIFIED:20260123T134034Z
UID:1632-1769279400-1769290200@joannasbanquets.com
SUMMARY:The Skid Marks - Live Music from Joanna's
DESCRIPTION:Step Back in Time with The Skid Marks! Live music at Joanna’s Restaurant and Banquet Hall \nGet ready to rock ‘n roll like it’s 1959 with The Skid Marks! Joanna’s Restaurant and Banquet Hall invites you to a blast from the past on January 24th\, from 6:30 PM to 9:30 PM. \n🎸 The Skid Marks: Vintage Rock ‘n Roll Revival! 🎸 \nExperience the nostalgia and excitement of an authentic 50’s or 60’s rock show as The Skid Marks deliver their signature sound and style. With every chord and every beat\, they’ll transport you back to the golden era of rock ‘n roll. \nEvent Details: \n\nDate: January 24th\nTime: 6:30 PM – 9:30 PM\nVenue: Joanna’s Restaurant and Banquet Hall\nAddress: 145 Main St.\, Somers\n\nAdmission: Free for all rock ‘n roll enthusiasts! However\, for guaranteed seating\, reserve your table by calling 860-749-5060. Doors open at 5:00 PM for those with table reservations. \nFor more information or to reserve your table\, please contact us at the provided number. \nDon’t miss this chance to relive the glory days of rock ‘n roll with The Skid Marks at Joanna’s Restaurant and Banquet Hall! Let’s twist and shout all night long! 🎶🎉 \n \nVintage Rock n Roll delivered with the look and sound of an authentic 50’s or 60’s rock show. Party Like it’s 1959!
URL:https://joannasbanquets.com/event/the-skid-marks-live-music-from-joannas/
LOCATION:Joanna’s Main Hall\, 145 Main St.\, Somers\, CT\, 06071\, United States
CATEGORIES:Classic Rock,Hits from the 50's, 60's, 70's, and 80's,Live Music,Party and Dancing
ATTACH;FMTTYPE=image/jpeg:https://joannasbanquets.com/wp-content/uploads/2024/03/The-Skidmarks.jpg
ORGANIZER;CN="Joanna's Restaurant":MAILTO:info@joannas-banquets.com
END:VEVENT
BEGIN:VEVENT
DTSTART;TZID=America/New_York:20260103T183000
DTEND;TZID=America/New_York:20260103T213000
DTSTAMP:20260424T221432
CREATED:20240625T132356Z
LAST-MODIFIED:20251213T144833Z
UID:1463-1767465000-1767475800@joannasbanquets.com
SUMMARY:Night Shift - Live from the main hall @ Joanna's
DESCRIPTION:Night Shift: Classic Rock and Hits to Light Up Your Night! \nLive at Joanna’s Restaurant and Banquet Hall \nDon’t miss an unforgettable evening with Night Shift\, one of Connecticut’s local bands\, as they rock the main hall at Joanna’s Restaurant and Banquet Hall! Mark your calendars for Saturday\, January 3rd from 6:30 PM to 9:30 PM and get ready to experience a night of incredible music. \nGet ready to groove to the best of classic rock and your favorite hits with Night Shift. Their dynamic performance and energetic tunes are sure to keep you dancing and singing along all night long. \nEvent Details: \n\nDate: Saturday\, January 3rd\nTime: 6:30 PM – 9:30 PM\nVenue: Joanna’s Restaurant and Banquet Hall (Main Hall)\nAddress: 145 Main St.\, Somers\, CT\n\nReservations: \n\nCall 860-749-5060 to reserve your table.\n\nAdmission is free. Bring your friends\, family\, and fellow music lovers for an evening of top-notch entertainment in our main hall! \nFor more information or reservations\, please contact us at 860-749-5060. \nDon’t miss your chance to enjoy Night Shift live at Joanna’s Restaurant and Banquet Hall! Let’s make it a night to remember! 🎵✨
URL:https://joannasbanquets.com/event/night-shift/
LOCATION:Joanna’s Main Hall\, 145 Main St.\, Somers\, CT\, 06071\, United States
CATEGORIES:Classic Rock,Hits from the 50's, 60's, 70's, and 80's,Live Music,Oldies Hits,Party and Dancing
ATTACH;FMTTYPE=image/jpeg:https://joannasbanquets.com/wp-content/uploads/2024/06/Night-shift.jpg
ORGANIZER;CN="Joanna's Restaurant":MAILTO:info@joannas-banquets.com
END:VEVENT
BEGIN:VEVENT
DTSTART;TZID=America/New_York:20260102T183000
DTEND;TZID=America/New_York:20260102T213000
DTSTAMP:20260424T221432
CREATED:20240625T134540Z
LAST-MODIFIED:20251213T144742Z
UID:1483-1767378600-1767389400@joannasbanquets.com
SUMMARY:Union Jack\, A British Invasion Band - Live in the Main Hall @ Joannas
DESCRIPTION:Experience British Invasion with Union Jack Band! Live at Joanna’s Restaurant and Banquet Hall \nPrepare to be transported across the pond as Union Jack Band brings the spirit of British rock to Joanna’s Restaurant and Banquet Hall! Join us on Friday\, January 2nd 2026 at 6:30 PM for an evening filled with iconic hits and timeless classics. \n🎸 Union Jack Band: Your Ticket to British Rock Royalty! 🇬🇧🎶 \nIndulge in the sounds of the British Invasion as Union Jack Band pays homage to legendary artists like The Beatles\, The Rolling Stones\, and Led Zeppelin. With their authentic sound and electrifying performance\, they’ll have you singing along and dancing the night away! \nEvent Details: \n\nDate: January 2nd\, 2026\n6:30 PM onwards\nVenue: Joanna’s Restaurant and Banquet Hall\nAddress: 145 Main St.\, Somers\n\nAdmission is free for all music enthusiasts. Bring your friends\, family\, and fellow rock aficionados for a night of British rock nostalgia! \nFor more information or reservations\, please contact us at 860-749-5060. Doors open at 5:00 pm for dinner reservations! \nDon’t miss your chance to experience the magic of British rock with Union Jack Band at Joanna’s Restaurant and Banquet Hall! Let’s make it a night to remember! 🎵🎉
URL:https://joannasbanquets.com/event/union-jack-a-british-invasion-band-live-in-the-main-hall-joannas-2/
LOCATION:Joanna’s Main Hall\, 145 Main St.\, Somers\, CT\, 06071\, United States
CATEGORIES:Hits from the 50's, 60's, 70's, and 80's,Live Music,Party and Dancing
ATTACH;FMTTYPE=image/jpeg:https://joannasbanquets.com/wp-content/uploads/2024/05/Union-Jack.jpg
ORGANIZER;CN="Joanna's Restaurant":MAILTO:info@joannas-banquets.com
END:VEVENT
BEGIN:VEVENT
DTSTART;TZID=America/New_York:20251231T180000
DTEND;TZID=America/New_York:20260101T010000
DTSTAMP:20260424T221432
CREATED:20240412T183650Z
LAST-MODIFIED:20251026T164141Z
UID:1310-1767204000-1767229200@joannasbanquets.com
SUMMARY:Joanna's New Years Eve Bash - Featuring Redhead
DESCRIPTION:Ring in 2026 with Redhead at Joanna’s New Year’s Eve Bash! \nJoin us for an unforgettable New Year’s Eve celebration at Joanna’s Restaurant and Banquet Hall with live music from Redhead! Get ready to dance the night away with the best classic hits and party favorites\, as we countdown to 2026 in style! \nDinner Buffet Menu: \n\nRoast Beef\nBaked Chicken\nBaked Stuffed Sole\n\nPlus\, enjoy a Champagne Toast at midnight as we welcome the New Year! \nWednesday\, December 31st\nDoors open at 6:00 PM\, Dinner at 7:00 pm\, and Music runs 9:00 to the ball drop\n145 Main St.\, Somers\, CT\nReservations Required – $70\nCall 860-749-5060 to reserve your table and secure your spot for an amazing night! \nLet’s make this New Year’s Eve Bash one to remember with delicious food\, great music\, and festive vibes! \n  \nCheck out our event page for more up and coming events: Events – Joanna’s Restaurant and Banquet Hall – A Complete Dining and Event Experience in Somers\, CT
URL:https://joannasbanquets.com/event/nye-countdown/
LOCATION:Joanna’s Main Hall\, 145 Main St.\, Somers\, CT\, 06071\, United States
CATEGORIES:Classic Rock,Hits from the 50's, 60's, 70's, and 80's,Live Music
ATTACH;FMTTYPE=image/jpeg:https://joannasbanquets.com/wp-content/uploads/2024/04/NYE-2026.jpg
ORGANIZER;CN="Joanna's Restaurant":MAILTO:info@joannas-banquets.com
END:VEVENT
BEGIN:VEVENT
DTSTART;TZID=America/New_York:20251025T183000
DTEND;TZID=America/New_York:20251025T210000
DTSTAMP:20260424T221432
CREATED:20250224T145749Z
LAST-MODIFIED:20250914T175935Z
UID:1933-1761417000-1761426000@joannasbanquets.com
SUMMARY:The Sharades - Live in the Main Hall at Joannas
DESCRIPTION:🎶 Step Back in Time with The Sharades! 🎸 \nA Nostalgic Night of Hits from the ‘50s\, ‘60s\, ‘70s & ‘80s!Date: Saturday\, October 25thTime: 6:30 PM – 9:30 PMWhere: Joanna’s Cafe\, Somers\, CT \nGet ready for a timeless musical journey as The Sharades take the stage at Joanna’s Cafe! Playing the very best from the ‘50s\, ‘60s\, ‘70s\, and ‘80s\, this band delivers all the classics that will have you singing\, dancing\, and reminiscing all night long. \nExpect to Hear:Rock & Roll\, Motown\, Pop\, and Classic HitsSongs You Know and Love – Perfect for Dancing!Authentic Sounds of the Golden Eras \nWhat to Expect:Delicious Food & Refreshing DrinksAn Unforgettable Throwback ExperienceA Fun\, Lively Atmosphere \nWhether you’re a fan of Elvis\, The Beatles\, The Supremes\, Fleetwood Mac\, or Billy Joel\, The Sharades will take you back to the greatest decades of music! \nNo Cover – Come Early for the Best Seats! \nFor more information or reservations call: 860-749-5060
URL:https://joannasbanquets.com/event/the-sharades/
LOCATION:Joanna’s Main Hall\, 145 Main St.\, Somers\, CT\, 06071\, United States
CATEGORIES:Hits from the 50's, 60's, 70's, and 80's,Live Music
ATTACH;FMTTYPE=image/jpeg:https://joannasbanquets.com/wp-content/uploads/2025/02/Sharades.jpg
ORGANIZER;CN="Joanna's Restaurant":MAILTO:info@joannas-banquets.com
END:VEVENT
BEGIN:VEVENT
DTSTART;TZID=America/New_York:20250321T183000
DTEND;TZID=America/New_York:20250321T213000
DTSTAMP:20260424T221432
CREATED:20250103T141310Z
LAST-MODIFIED:20250224T163117Z
UID:1880-1742581800-1742592600@joannasbanquets.com
SUMMARY:Stealing Frequencies - Live from the main hall @ Joanna's
DESCRIPTION:🎸 Live Music with Stealing Frequencies! 🎤 \nGet Ready for a Night of Timeless Hits and High Energy!\n📅 When: March 21st 2025\n⏰ Time: 6:30 pm – 9:30 pm\n📍 Where: Joanna’s Cafe\, Somers\, CT \nJoin us for an unforgettable evening with Stealing Frequencies\, a band that brings decades of legendary music to life. With a setlist packed with classic hits\, you’re in for a night of nostalgia\, great vibes\, and non-stop fun. \nSongs You’ll Love to Sing Along To:\n🎵 Great Balls of Fire\n🎵 Peaceful Easy Feeling\n🎵 Brandy\n🎵 Mustang Sally\n🎵 Tainted Love\n🎵 Take it Easy\n🎵 Son of a Preacher Man\n🎵 Rhiannon\n🎵 Hit Me with Your Best Shot\n…and so many more! \nCome for the music\, stay for:\n🍔 Delectable Food & Snacks\n🍻 Refreshing Drinks\n🕺 Plenty of Room to Dance \nAdmission: Always Free\, but come early for best dinner service!\nReserve Your Spot Now: 860-763-5060 \nWhether you’re a fan of rock\, soul\, or timeless pop hits\, Stealing Frequencies will have you singing\, dancing\, and reminiscing all night long. \nStealing Frequencies
URL:https://joannasbanquets.com/event/stealing-frequencies-live-from-the-main-hall-joannas/
LOCATION:Joanna’s Main Hall\, 145 Main St.\, Somers\, CT\, 06071\, United States
CATEGORIES:Classic Rock,Hits from the 50's, 60's, 70's, and 80's,Live Music,Party and Dancing
ATTACH;FMTTYPE=image/jpeg:https://joannasbanquets.com/wp-content/uploads/2025/01/SF.jpeg
ORGANIZER;CN="Stealing Frequencies":MAILTO:stealing.frequencies@pm.me
END:VEVENT
BEGIN:VEVENT
DTSTART;TZID=America/New_York:20250315T183000
DTEND;TZID=America/New_York:20250315T213000
DTSTAMP:20260424T221432
CREATED:20240816T134024Z
LAST-MODIFIED:20250226T124743Z
UID:1600-1742063400-1742074200@joannasbanquets.com
SUMMARY:The Sharades Band - St. Patrick’s Day Bash @ Joanna's Restaurant
DESCRIPTION:🍀 St. Patrick’s Day Bash with Live Music from The Sharades! 🎶\n📅 Date: Saturday\, March 15th\, 2025⏰ Time: 6:30 PM – 9:30 PM📍 Where: Joanna’s Cafe\, Somers\, CT \n📞 Call for Reservations: (860) 763-5060 \nGet ready for a festive night of music\, food\, and fun as we celebrate St. Patrick’s Day at Joanna’s Cafe! Sharades will take the stage\, bringing you the best hits from the ‘50s\, ‘60s\, ‘70s\, and ‘80s—the perfect soundtrack for an unforgettable Irish celebration! \n🍽️ Featured Specials:\n☘️ Corned Beef & Cabbage – A true Irish classic!🥪 Fresh Reubens – Stacked high with flavor!🍻 Plenty of Guinness & Irish Whiskey – Because it’s St. Paddy’s! \n🎶 Live Music by Sharades\nEnjoy an exciting night of nostalgic hits and dance-worthy tunes from one of the region’s favorite throwback bands! Whether you’re singing along or hitting the dance floor\, the energy will be high and the vibes will be Irish-approved! \nWhat to Expect:🎵 Live Music & Dancing🍀 Festive Irish-Themed Food & Drinks🎉 A Fun\, High-Energy Atmosphere \nWear your best green attire\, grab your friends\, and come celebrate St. Patrick’s Day in style! \n🎟️ No Cover – Arrive Early for the Best Seats! \n\n(20+) Facebook
URL:https://joannasbanquets.com/event/the-sharades-band-live-joannas/
LOCATION:Joanna’s Main Hall\, 145 Main St.\, Somers\, CT\, 06071\, United States
CATEGORIES:Hits from the 50's, 60's, 70's, and 80's,Live Music,Oldies Hits,Party and Dancing
ATTACH;FMTTYPE=image/jpeg:https://joannasbanquets.com/wp-content/uploads/2025/02/Sharades.jpg
ORGANIZER;CN="Joanna's Restaurant":MAILTO:info@joannas-banquets.com
END:VEVENT
BEGIN:VEVENT
DTSTART;TZID=America/New_York:20241226T180000
DTEND;TZID=America/New_York:20241226T210000
DTSTAMP:20260424T221432
CREATED:20240412T184706Z
LAST-MODIFIED:20241201T141836Z
UID:1317-1735236000-1735246800@joannasbanquets.com
SUMMARY:Tom & Lici "Baird Souls" - Live @ Joanna's
DESCRIPTION:This Week: Live Music with Baird Souls \nDate: Sunday December 26th \nTime: 6:00 PM – 9:00 PM \n\nEnjoy an Evening of: \n\nAwesome Live Music: Groove to the classic and 80’s rock tunes by Baird Souls\nCold Beer: Refreshing drinks to keep you cool.\nDelicious Food: Weekly specials and American-Italian comfort foods\n\n\nDon’t Miss Out on the Fun! \nLocation:\nJoanna’s Restaurant\n145 Main Street\, Somers\, CT \nJoin us for an awesome set put on by Tom and Lici of Baird Souls. Rockin’ Soulful mix of tunes that make you want to tap\, sing\, or dance along! \n🎸Not too loud. Not too soft. Just right on a Thursday🎤
URL:https://joannasbanquets.com/event/tom-lici-baird-souls-live-joannas/
LOCATION:Joanna’s Bar\, 145 Main St.\, Somers\, CT\, 06071\, United States
CATEGORIES:Hits from the 50's, 60's, 70's, and 80's,Live Music,Party and Dancing
ATTACH;FMTTYPE=image/jpeg:https://joannasbanquets.com/wp-content/uploads/2024/04/Baird-Souls-Tom-and-Lici.jpg
END:VEVENT
BEGIN:VEVENT
DTSTART;TZID=America/New_York:20241201T183000
DTEND;TZID=America/New_York:20241201T213000
DTSTAMP:20260424T221432
CREATED:20250103T150751Z
LAST-MODIFIED:20250224T152006Z
UID:1899-1733077800-1733088600@joannasbanquets.com
SUMMARY:Drive Time - Live from the main hall at Joanna's
DESCRIPTION:🚗 Live Music with Drive Time! 🎶 \nCruise into an Evening of Great Tunes and Good Times!\n📅 Date: Saturday\, April 12th\, 2025\n⏰ Time: 6:30 PM – 9:30 PM\n📍 Where: Joanna’s Cafe\, Somers\, CT \nHit the road for an incredible night of live music with Drive Time at Joanna’s Cafe! Known for their dynamic sound and engaging performances\, Drive Time is sure to keep you singing\, dancing\, and smiling all night long. \nWhat to Expect:\n🎵 A Playlist Packed with Crowd Favorites\n🍔 Delicious Food and Refreshing Drinks\n🎉 A Fun\, High-Energy Atmosphere \nWhether you’re out for a night with friends or just looking for an evening of great entertainment\, Drive Time delivers a performance you don’t want to miss! \nJoin us on April 12th at Joanna’s Cafe and make it a night to remember! \nhttps://www.facebook.com/SoulfulRock.Blues.Funk/videos/358886629812098
URL:https://joannasbanquets.com/event/party/
LOCATION:Joanna’s Main Hall\, 145 Main St.\, Somers\, CT\, 06071\, United States
CATEGORIES:Classic Rock,Hits from the 50's, 60's, 70's, and 80's,Live Music,Party and Dancing,Rock and Roll
ATTACH;FMTTYPE=image/jpeg:https://joannasbanquets.com/wp-content/uploads/2025/01/Drivetime.jpg
ORGANIZER;CN="Joanna's Restaurant":MAILTO:info@joannas-banquets.com
END:VEVENT
BEGIN:VEVENT
DTSTART;TZID=America/New_York:20240801T183000
DTEND;TZID=America/New_York:20240801T213000
DTSTAMP:20260424T221432
CREATED:20250718T135608Z
LAST-MODIFIED:20250718T151627Z
UID:2184-1722537000-1722547800@joannasbanquets.com
SUMMARY:Wendy & The Lost Boys - Live in the main hall at Joanna's
DESCRIPTION:🎶 Live Music at Joanna’s – Friday\, August 1st! 🎶\n📍 Joanna’s Restaurant\, Somers\, CT\n🕡 6:30 PM – 9:30 PM \nJoin us for an unforgettable evening of live music\, great food\, and good vibes!\nWendy and the Lost Boys will be rocking the house with pop and rock covers from all decades – a perfect soundtrack for your Friday night. \n🎤 Wendy – Vocals\n🎸 Lee – Guitar/Vocals\n🥁 Jimmy – Drums/Vocals\n🎸 Antonio C – Bass \nBring your friends\, grab a drink\, and enjoy the show!\nNo cover – just come ready to have a great time. 🎉
URL:https://joannasbanquets.com/event/wendy-the-lost-boys-live-in-the-main-hall-at-joannas/
LOCATION:Joanna’s Main Hall\, 145 Main St.\, Somers\, CT\, 06071\, United States
CATEGORIES:Hits from the 50's, 60's, 70's, and 80's,Live Music,Party and Dancing
ATTACH;FMTTYPE=image/jpeg:https://joannasbanquets.com/wp-content/uploads/2025/07/Wendy-scaled.jpg
ORGANIZER;CN="Joanna's Restaurant":MAILTO:info@joannas-banquets.com
END:VEVENT
END:VCALENDAR