BEGIN:VCALENDAR
VERSION:2.0
PRODID:-//Joanna&#039;s Restaurant and Banquet Hall - A Complete Dining and Event Experience in Somers, CT - ECPv6.15.20//NONSGML v1.0//EN
CALSCALE:GREGORIAN
METHOD:PUBLISH
X-ORIGINAL-URL:https://joannasbanquets.com
X-WR-CALDESC:Events for Joanna&#039;s Restaurant and Banquet Hall - A Complete Dining and Event Experience in Somers, CT
REFRESH-INTERVAL;VALUE=DURATION:PT1H
X-Robots-Tag:noindex
X-PUBLISHED-TTL:PT1H
BEGIN:VTIMEZONE
TZID:America/New_York
BEGIN:DAYLIGHT
TZOFFSETFROM:-0500
TZOFFSETTO:-0400
TZNAME:EDT
DTSTART:20250309T070000
END:DAYLIGHT
BEGIN:STANDARD
TZOFFSETFROM:-0400
TZOFFSETTO:-0500
TZNAME:EST
DTSTART:20251102T060000
END:STANDARD
BEGIN:DAYLIGHT
TZOFFSETFROM:-0500
TZOFFSETTO:-0400
TZNAME:EDT
DTSTART:20260308T070000
END:DAYLIGHT
BEGIN:STANDARD
TZOFFSETFROM:-0400
TZOFFSETTO:-0500
TZNAME:EST
DTSTART:20261101T060000
END:STANDARD
BEGIN:DAYLIGHT
TZOFFSETFROM:-0500
TZOFFSETTO:-0400
TZNAME:EDT
DTSTART:20270314T070000
END:DAYLIGHT
BEGIN:STANDARD
TZOFFSETFROM:-0400
TZOFFSETTO:-0500
TZNAME:EST
DTSTART:20271107T060000
END:STANDARD
END:VTIMEZONE
BEGIN:VEVENT
DTSTART;TZID=America/New_York:20260501T183000
DTEND;TZID=America/New_York:20260501T213000
DTSTAMP:20260424T204836
CREATED:20250103T145608Z
LAST-MODIFIED:20260324T030919Z
UID:1890-1777660200-1777671000@joannasbanquets.com
SUMMARY:Phoenix - LIVE at Joanna's Restaurant & Banquet Hall
DESCRIPTION:🔥 Phoenix LIVE at Joanna’s Restaurant & Banquet Hall 🎸\nA Night of Unforgettable Hits Across the Decades!\nGet ready for an electrifying evening with Band Phoenix\, a group that seamlessly blends classic rock\, pop\, and soul hits with a touch of modern flair. From iconic artists like Bob Seger\, Elton John\, and Billy Idol to powerhouse female favorites like Lady Gaga\, The Supremes\, and Meghan Trainor\, Phoenix offers something for everyone. \nWhat You’ll Enjoy:\n🎵 A Wide Range of Songs to Sing and Dance To\n🍔 Delicious Food and Refreshing Drinks\n🎉 A High-Energy Atmosphere \nTo access our full menu and weekend specials\, please click HERE. \nWhether you’re a fan of classic rock or modern pop\, Phoenix delivers a dynamic performance that will keep you dancing all night long. \nMark your calendar for May 1st and bring your friends for an unforgettable night of live music at Joanna’s \n📅 Date: Friday\, May 1st\n⏰ Time: 6:30 PM – 9:30 PM\n📍 Where: Joanna’s Restaurant & Banquet Hall\, Somers\, CT\n 
URL:https://joannasbanquets.com/event/phoenix-live-from-joannas-main-hall/
LOCATION:Joanna’s Main Hall\, 145 Main St.\, Somers\, CT\, 06071\, United States
CATEGORIES:Classic Rock,Hits from the 50's, 60's, 70's, and 80's,Live Music,Party and Dancing,Rock and Roll
ATTACH;FMTTYPE=image/jpeg:https://joannasbanquets.com/wp-content/uploads/2025/01/ChatGPT-Image-Mar-23-2026-10_56_18-PM.jpg
ORGANIZER;CN="Joanna's Restaurant":MAILTO:info@joannas-banquets.com
END:VEVENT
BEGIN:VEVENT
DTSTART;TZID=America/New_York:20260516T183000
DTEND;TZID=America/New_York:20260516T213000
DTSTAMP:20260424T204836
CREATED:20251226T131031Z
LAST-MODIFIED:20260403T131120Z
UID:2505-1778956200-1778967000@joannasbanquets.com
SUMMARY:Night Shift - Live from Joanna's Restaurant & Banquet Hall!!
DESCRIPTION:🎶 Night Shift Live at Joanna’s Restaurant & Banquet Hall!\nSaturday\, May 16th | 6:30 PM – 9:30 PM | Somers\, Connecticut\nJoin us for an exciting night of live classic hits as Night Shift performs in the Main Hall at Joanna’s Restaurant & Banquet Hall in Somers\, CT. This popular Connecticut cover band is known for high‑energy performances\, strong vocals\, and a set list packed with timeless favorites. \n⭐ About Night Shift – Connecticut’s Classic Hits Cover Band\nNight Shift is a talented five‑piece Connecticut band specializing in the best music from the 1960s\, 1970s\, and 1980s. Their upbeat mix of rock\, pop\, and sing‑along classics creates a fun\, welcoming atmosphere for guests of all ages. \nTheir performances often feature hits from legendary artists such as: \n\nJourney\nThe Doobie Brothers\nChicago\nThe Doors\nVan Morrison\nAnd many more\n\nWhether you love classic rock\, soulful vocals\, or nostalgic favorites\, Night Shift delivers a show that keeps the crowd dancing and singing all night long. \n📅 Event Details\n\nDate: Saturday\, May 16th\nTime: 6:30 PM – 9:30 PM\nLocation: Joanna’s Restaurant & Banquet Hall – Main Hall\nAddress: 145 Main Street\, Somers\, CT\nAdmission: Free\n\n🍽️ Enjoy Dinner\, Drinks & Live Music\nMake it a full night out at Joanna’s! Our kitchen opens at 5:00 PM for dinner reservations\, featuring: \n\nSpecialty pizzas\nItalian‑American classics\nPrime rib\nSeafood dinners\nHandcrafted cocktails\nFull bar\n\nBring your family and friends for a great meal and an evening of live entertainment in Somers. \nReservations recommended: 📞 860‑749‑5060 \n🎵 Don’t Miss Night Shift Live at Joanna’s\nExperience one of Connecticut’s favorite classic hits bands in a warm\, family‑friendly setting. Enjoy great food\, great music\, and great company at Joanna’s Restaurant & Banquet Hall.
URL:https://joannasbanquets.com/event/night-shift-live-from-the-main-hall-joannas/
LOCATION:Joanna’s Main Hall\, 145 Main St.\, Somers\, CT\, 06071\, United States
CATEGORIES:Classic Rock,Live Music,Party and Dancing
ATTACH;FMTTYPE=image/webp:https://joannasbanquets.com/wp-content/uploads/2025/12/nightshift-band-scaled.webp
ORGANIZER;CN="Joanna's Restaurant":MAILTO:info@joannas-banquets.com
END:VEVENT
BEGIN:VEVENT
DTSTART;TZID=America/New_York:20260522T183000
DTEND;TZID=America/New_York:20260522T213000
DTSTAMP:20260424T204836
CREATED:20240416T192702Z
LAST-MODIFIED:20260403T132828Z
UID:1399-1779474600-1779485400@joannasbanquets.com
SUMMARY:Midlife Crysis of Enfield - Live Music from the main hall @ Joanna's
DESCRIPTION:🎸 Live music and Dancing with Midlife Crysis Live at Joanna’s!📍 Joanna’s Restaurant & Banquet Hall\, Somers\, CT🕡 Friday\, May 22nd | 6:30–9:30 PM \nGet ready for a night of high-energy rock & roll with Midlife Crysis\, a local band from Enfield\, CT! They’ll be bringing the greatest hits from the 60’s\, 70’s\, and 80’s to Joanna’s patio stage\, delivering a night packed with nostalgia\, dancing\, and fun for music lovers of all ages. \nWhether you’re a fan of classic rock legends or just love a good jam session\, Midlife Crysis promises powerful vocals\, tight musicianship\, and a setlist full of timeless rock hits. Pair that with Joanna’s delicious Italian-American food\, ice-cold drinks\, and cozy hometown atmosphere for an unforgettable Friday night out. \n✨ What to Expect: \n\nLive classic rock music from the 60’s\, 70’s\, and 80’s\nOutdoor patio seating perfect for spring evenings\nFamily-friendly fun with food and drink specials\nA night to dance\, sing along\, and soak in the good vibes\n\nBring your friends\, enjoy dinner\, drinks\, and a fantastic local rock performance — rain or shine! \n \nMidlife Crysis Facebook \n🎸 Live music and Dancing with Midlife Crysis Live at Joanna’s!
URL:https://joannasbanquets.com/event/midlife-crisis-of-enfield-live-from-the-main-hall-joannas/
LOCATION:Joanna’s Main Hall\, 145 Main St.\, Somers\, CT\, 06071\, United States
CATEGORIES:Classic Rock,Live Music,Party and Dancing,Rock and Roll
ATTACH;FMTTYPE=image/jpeg:https://joannasbanquets.com/wp-content/uploads/2024/04/Midlife-Crysis-flyer.jpg
ORGANIZER;CN="Joanna's Restaurant":MAILTO:info@joannas-banquets.com
END:VEVENT
BEGIN:VEVENT
DTSTART;TZID=America/New_York:20260523T183000
DTEND;TZID=America/New_York:20260523T213000
DTSTAMP:20260424T204836
CREATED:20260210T215204Z
LAST-MODIFIED:20260403T125513Z
UID:2570-1779561000-1779571800@joannasbanquets.com
SUMMARY:🎸 Wicked Biscuit Rocks Joanna’s - Live in the Main Hall
DESCRIPTION:🎸 Wicked Biscuit Rocks Joanna’s!\nA Night of Great Music\, Great Food & Family‑Friendly Fun\nSomers\, get ready — Wicked Biscuit is coming to Joanna’s Restaurant & Banquet Hall for a night packed with high‑energy\, danceable rock music and all the good vibes you expect from a Joanna’s night out. \nBring your friends\, bring the kids\, bring the whole crew. This is a family‑friendly event\, and we’re serving up the perfect mix of live music\, delicious food\, and a cozy hometown atmosphere. \n🎶 Live Music by Wicked Biscuit\, May 23rd 6:30 to 9:30 pm\nThis powerhouse five‑piece cover band brings a fresh\, dance‑ready mix of rock favorites from every decade. You’ll hear hits from: \n\nThe Rolling Stones\nLed Zeppelin\nThe Revivalists\nThe Band\nGrace Potter\nTalking Heads\nTom Petty\nGrateful Dead\nThe Cure\nThe Beatles\n…and plenty more\n\nWith Erin Wallace\, Brian Banning\, Steve Kruglewicz\, Jeff Wadsworth\, and Kevin Wherry on stage\, you’re in for a lively\, crowd‑pleasing show. Wicked Biscuit’s Facebook \n🍕 Come Hungry — We’ve Got You Covered\nJoanna’s is proud to be a Somers staple\, serving: \n\nItalian‑American classics\nPizza (including our new\, fan‑favorite dough!)\nWeekend prime rib\nChef specials\nIce‑cold beer & featured cocktails\n\nWhether you’re joining us for dinner\, drinks\, or dancing\, you’ll feel right at home. \n📍 Joanna’s Restaurant & Banquet Hall\nProudly family‑owned by a 4th‑generation Somers family Banquet hall available for private events More info: http://joannasbanquets.com/
URL:https://joannasbanquets.com/event/wicked-biscuit-live-at-joannas/
LOCATION:Joanna’s Main Hall\, 145 Main St.\, Somers\, CT\, 06071\, United States
CATEGORIES:Classic Rock,Live Music,Party and Dancing,Rock and Roll
ATTACH;FMTTYPE=image/png:https://joannasbanquets.com/wp-content/uploads/2026/02/Image-2-16-26-at-4.30-PM.png
ORGANIZER;CN="Joanna's Restaurant":MAILTO:info@joannas-banquets.com
END:VEVENT
END:VCALENDAR