BEGIN:VCALENDAR
VERSION:2.0
PRODID:-//Joanna&#039;s Restaurant and Banquet Hall - A Complete Dining and Event Experience in Somers, CT - ECPv6.15.20//NONSGML v1.0//EN
CALSCALE:GREGORIAN
METHOD:PUBLISH
X-ORIGINAL-URL:https://joannasbanquets.com
X-WR-CALDESC:Events for Joanna&#039;s Restaurant and Banquet Hall - A Complete Dining and Event Experience in Somers, CT
REFRESH-INTERVAL;VALUE=DURATION:PT1H
X-Robots-Tag:noindex
X-PUBLISHED-TTL:PT1H
BEGIN:VTIMEZONE
TZID:America/New_York
BEGIN:DAYLIGHT
TZOFFSETFROM:-0500
TZOFFSETTO:-0400
TZNAME:EDT
DTSTART:20250309T070000
END:DAYLIGHT
BEGIN:STANDARD
TZOFFSETFROM:-0400
TZOFFSETTO:-0500
TZNAME:EST
DTSTART:20251102T060000
END:STANDARD
BEGIN:DAYLIGHT
TZOFFSETFROM:-0500
TZOFFSETTO:-0400
TZNAME:EDT
DTSTART:20260308T070000
END:DAYLIGHT
BEGIN:STANDARD
TZOFFSETFROM:-0400
TZOFFSETTO:-0500
TZNAME:EST
DTSTART:20261101T060000
END:STANDARD
BEGIN:DAYLIGHT
TZOFFSETFROM:-0500
TZOFFSETTO:-0400
TZNAME:EDT
DTSTART:20270314T070000
END:DAYLIGHT
BEGIN:STANDARD
TZOFFSETFROM:-0400
TZOFFSETTO:-0500
TZNAME:EST
DTSTART:20271107T060000
END:STANDARD
END:VTIMEZONE
BEGIN:VEVENT
DTSTART;TZID=America/New_York:20260502T183000
DTEND;TZID=America/New_York:20260502T213000
DTSTAMP:20260424T232307
CREATED:20240303T002232Z
LAST-MODIFIED:20260324T032813Z
UID:627-1777746600-1777757400@joannasbanquets.com
SUMMARY:The Skid Marks - Live at Joanna's Restaurant & Banquet Hall
DESCRIPTION:The SkidMarks – Live at Joanna’s Restaurant & Banquet Hall\nGet ready to rock ‘n roll like it’s 1959 with The Skid Marks! Joanna’s Restaurant and Banquet Hall invites you to a blast from the past on Saturday\, May 2\, 2026\, from 6:30 PM to 9:30 PM. \n🎸 The Skid Marks: Vintage Rock ‘n Roll Revival! 🎸 \nExperience the nostalgia and excitement of an authentic 50’s or 60’s rock show as The Skid Marks deliver their signature sound and style. With every chord and every beat\, they’ll transport you back to the golden era of rock ‘n roll. \nVintage Rock n Roll delivered with the look and sound of an authentic 50’s or 60’s rock show. Party Like it’s 1959! \nEvent Details: \n\nDate: Saturday\, May 2\, 2026\nTime: 6:30 PM – 9:30 PM\nVenue: Joanna’s Restaurant & Banquet Hall\nAddress: 145 Main St\, Somers\, CT 06071\n\nAdmission: Free for all rock ‘n roll enthusiasts! However\, for guaranteed seating\, reserve your table by calling 860-749-5060. Doors open at 5:00 PM for those with table reservations. \nTo view our full Menu and Weekend Specials\, please click HERE \nDon’t miss this chance to relive the glory days of rock ‘n roll at Joanna’s! Let’s twist and shout all night long! 🎶🎉 \n 
URL:https://joannasbanquets.com/event/the-skid-marks-live-joannas-restaurant/
LOCATION:Joanna’s Main Hall\, 145 Main St.\, Somers\, CT\, 06071\, United States
CATEGORIES:Hits from the 50's, 60's, 70's, and 80's,Live Music
ATTACH;FMTTYPE=image/jpeg:https://joannasbanquets.com/wp-content/uploads/2024/03/ChatGPT-Image-Mar-23-2026-11_24_32-PM.jpg
ORGANIZER;CN="Joanna's Restaurant":MAILTO:info@joannas-banquets.com
END:VEVENT
BEGIN:VEVENT
DTSTART;TZID=America/New_York:20260523T183000
DTEND;TZID=America/New_York:20260523T213000
DTSTAMP:20260424T232307
CREATED:20260210T215204Z
LAST-MODIFIED:20260403T125513Z
UID:2570-1779561000-1779571800@joannasbanquets.com
SUMMARY:🎸 Wicked Biscuit Rocks Joanna’s - Live in the Main Hall
DESCRIPTION:🎸 Wicked Biscuit Rocks Joanna’s!\nA Night of Great Music\, Great Food & Family‑Friendly Fun\nSomers\, get ready — Wicked Biscuit is coming to Joanna’s Restaurant & Banquet Hall for a night packed with high‑energy\, danceable rock music and all the good vibes you expect from a Joanna’s night out. \nBring your friends\, bring the kids\, bring the whole crew. This is a family‑friendly event\, and we’re serving up the perfect mix of live music\, delicious food\, and a cozy hometown atmosphere. \n🎶 Live Music by Wicked Biscuit\, May 23rd 6:30 to 9:30 pm\nThis powerhouse five‑piece cover band brings a fresh\, dance‑ready mix of rock favorites from every decade. You’ll hear hits from: \n\nThe Rolling Stones\nLed Zeppelin\nThe Revivalists\nThe Band\nGrace Potter\nTalking Heads\nTom Petty\nGrateful Dead\nThe Cure\nThe Beatles\n…and plenty more\n\nWith Erin Wallace\, Brian Banning\, Steve Kruglewicz\, Jeff Wadsworth\, and Kevin Wherry on stage\, you’re in for a lively\, crowd‑pleasing show. Wicked Biscuit’s Facebook \n🍕 Come Hungry — We’ve Got You Covered\nJoanna’s is proud to be a Somers staple\, serving: \n\nItalian‑American classics\nPizza (including our new\, fan‑favorite dough!)\nWeekend prime rib\nChef specials\nIce‑cold beer & featured cocktails\n\nWhether you’re joining us for dinner\, drinks\, or dancing\, you’ll feel right at home. \n📍 Joanna’s Restaurant & Banquet Hall\nProudly family‑owned by a 4th‑generation Somers family Banquet hall available for private events More info: http://joannasbanquets.com/
URL:https://joannasbanquets.com/event/wicked-biscuit-live-at-joannas/
LOCATION:Joanna’s Main Hall\, 145 Main St.\, Somers\, CT\, 06071\, United States
CATEGORIES:Classic Rock,Live Music,Party and Dancing,Rock and Roll
ATTACH;FMTTYPE=image/png:https://joannasbanquets.com/wp-content/uploads/2026/02/Image-2-16-26-at-4.30-PM.png
ORGANIZER;CN="Joanna's Restaurant":MAILTO:info@joannas-banquets.com
END:VEVENT
BEGIN:VEVENT
DTSTART;TZID=America/New_York:20260531T173000
DTEND;TZID=America/New_York:20260531T203000
DTSTAMP:20260424T232307
CREATED:20250426T160209Z
LAST-MODIFIED:20260403T124244Z
UID:2059-1780248600-1780259400@joannasbanquets.com
SUMMARY:New City Road Live at Joanna’s!
DESCRIPTION:Date: Sunday\, May 31stTime: 5:00 PM – 8:00 PMLocation: Joanna’s Restaurant — 145 Main St.\, Somers\, CTAdmission: FREE \n\nGet ready for a Rockin’ Sunday evening at Joanna’s Restaurant as we welcome New City Road to the patio stage! \n🎸 About the Band:New City Road brings high-energy classic rock to life with powerful vocals\, tight musicianship\, and a setlist full of the songs you know and love. Expect an evening of timeless hits\, great grooves\, and unforgettable vibes! \n✨ What to Expect: \n\n\nLive Classic Rock music from New City Road — 5:00–8:00 PM \n\n\nDelicious food and ice-cold drinks \n\n\nOutdoor patio seating perfect for summer nights \n\n\nA fun\, relaxed atmosphere for music lovers of all ages \n\n\n🌟 Bonus:Come early to grab the best seats and enjoy our food and drink specials!Rain or shine — the show goes on! \n\nSave the date and bring your friends —New City Road is ready to turn up the volume at Joanna’s!
URL:https://joannasbanquets.com/event/new-city-road-live-at-joannas-2/
LOCATION:Joanna’s Patio\, 145 Main St.\, Somers\, CT\, 06071\, United States
CATEGORIES:Classic Rock
ATTACH;FMTTYPE=image/jpeg:https://joannasbanquets.com/wp-content/uploads/2024/06/New-City-Road-Logo.jpg
END:VEVENT
END:VCALENDAR