BEGIN:VCALENDAR
VERSION:2.0
PRODID:-//Joanna&#039;s Restaurant and Banquet Hall - A Complete Dining and Event Experience in Somers, CT - ECPv6.15.20//NONSGML v1.0//EN
CALSCALE:GREGORIAN
METHOD:PUBLISH
X-WR-CALNAME:Joanna&#039;s Restaurant and Banquet Hall - A Complete Dining and Event Experience in Somers, CT
X-ORIGINAL-URL:https://joannasbanquets.com
X-WR-CALDESC:Events for Joanna&#039;s Restaurant and Banquet Hall - A Complete Dining and Event Experience in Somers, CT
REFRESH-INTERVAL;VALUE=DURATION:PT1H
X-Robots-Tag:noindex
X-PUBLISHED-TTL:PT1H
BEGIN:VTIMEZONE
TZID:America/New_York
BEGIN:DAYLIGHT
TZOFFSETFROM:-0500
TZOFFSETTO:-0400
TZNAME:EDT
DTSTART:20250309T070000
END:DAYLIGHT
BEGIN:STANDARD
TZOFFSETFROM:-0400
TZOFFSETTO:-0500
TZNAME:EST
DTSTART:20251102T060000
END:STANDARD
BEGIN:DAYLIGHT
TZOFFSETFROM:-0500
TZOFFSETTO:-0400
TZNAME:EDT
DTSTART:20260308T070000
END:DAYLIGHT
BEGIN:STANDARD
TZOFFSETFROM:-0400
TZOFFSETTO:-0500
TZNAME:EST
DTSTART:20261101T060000
END:STANDARD
BEGIN:DAYLIGHT
TZOFFSETFROM:-0500
TZOFFSETTO:-0400
TZNAME:EDT
DTSTART:20270314T070000
END:DAYLIGHT
BEGIN:STANDARD
TZOFFSETFROM:-0400
TZOFFSETTO:-0500
TZNAME:EST
DTSTART:20271107T060000
END:STANDARD
END:VTIMEZONE
BEGIN:VEVENT
DTSTART;TZID=America/New_York:20260307T183000
DTEND;TZID=America/New_York:20260307T213000
DTSTAMP:20260424T233647
CREATED:20240412T141457Z
LAST-MODIFIED:20251226T124630Z
UID:1220-1772908200-1772919000@joannasbanquets.com
SUMMARY:Redhead - Rock from the heart\, Live from Joanna's!
DESCRIPTION:Experience the Passion of Redhead Rocking out live and from the heart! \nGet ready for an electrifying night of music with Redhead! Join us at Joanna’s Restaurant and Banquet Hall on March 7th!! \nImmerse yourself in the soulful sounds and captivating energy of Redhead as they take center stage. With their dynamic vocals and powerful melodies\, Redhead promises an unforgettable evening of music and entertainment. \nEvent Details: \n\nDate: March 7th\nTime: 6:30 PM – 9:30 PM\nVenue: Joanna’s Restaurant and Banquet Hall\nAddress: 145 Main St.\, Somers\, CT\n\nAdmission is free for all music enthusiasts. Come early to secure your spot and enjoy a delicious meal before the show begins! \nFor table reservations or more information\, please contact us at 860-749-5060. Doors open at 5:00 pm for dinner tables! \nDon’t miss your chance to experience the passion of Redhead live at Joanna’s Restaurant and Banquet Hall! See you there! 🎶🔥 \n(20+) Facebook \nRedhead Rocking Live at Joanna’s
URL:https://joannasbanquets.com/event/redhead-rocking/
LOCATION:Joanna’s Main Hall\, 145 Main St.\, Somers\, CT\, 06071\, United States
CATEGORIES:Classic Rock,Live Music
ATTACH;FMTTYPE=image/jpeg:https://joannasbanquets.com/wp-content/uploads/2024/04/Redhead-graphic-art.jpg
ORGANIZER;CN="Joanna's Restaurant":MAILTO:info@joannas-banquets.com
END:VEVENT
END:VCALENDAR